BEGIN:VCALENDAR
VERSION:2.0
PRODID:-//ChamberMaster//Event Calendar 2.0//EN
METHOD:PUBLISH
X-PUBLISHED-TTL:P3D
REFRESH-INTERVAL:P3D
CALSCALE:GREGORIAN
BEGIN:VEVENT
DTSTART:20130622T160000Z
DTEND:20130622T190000Z
X-MICROSOFT-CDO-ALLDAYEVENT:FALSE
SUMMARY:Porch Kids Car Wash
DESCRIPTION:Car Wash fundraiser to send kids to summer camp
X-ALT-DESC;FMTTYPE=text/html:&nbsp\;Car Wash fundraiser to send kids to summer camp&nbsp\;
LOCATION:410 E Tabernacle
UID:e.1117.4146
SEQUENCE:3
DTSTAMP:20260422T041917Z
URL:https://business.stgeorgechamber.com/events/details/porch-kids-car-wash-06-22-2013-4146
END:VEVENT

END:VCALENDAR
