BEGIN:VCALENDAR
VERSION:2.0
PRODID:-//ChamberMaster//Event Calendar 2.0//EN
METHOD:PUBLISH
X-PUBLISHED-TTL:P3D
REFRESH-INTERVAL:P3D
CALSCALE:GREGORIAN
BEGIN:VEVENT
DTSTART:20150815T050000Z
DTEND:20150831T000000Z
X-MICROSOFT-CDO-ALLDAYEVENT:FALSE
SUMMARY:Poppies & Perspectives
DESCRIPTION:August Gallery Show /The DiFiore Center CERAMICS Artist Skylar Hibberd will be doing a solo show in the Olive Esplin Art Gallery. AUGUST Sky Hibbard Gallery Show * DAYS: Tuesday - Saturday * HOURS: 11:00 a.m. - 6:00 p.m. * By Appointment: 435.673.4206 or 435.772.ARTS (2787) Gallery Show Closing  Saturday\, August 30th / 6:00 - 8:00 p.m
X-ALT-DESC;FMTTYPE=text/html:August Gallery Show /The DiFiore Center CERAMICS Artist Skylar Hibberd will be doing a solo show in the Olive Esplin Art Gallery. AUGUST Sky Hibbard Gallery Show * DAYS: Tuesday -&nbsp\;Saturday * HOURS: 11:00 a.m. - 6:00 p.m. * By Appointment: 435.673.4206 or 435.772.ARTS (2787) Gallery Show Closing &nbsp\;Saturday\, August 30th / 6:00 - 8:00 p.m
LOCATION:The DiFiore Center
UID:e.1117.7041
SEQUENCE:3
DTSTAMP:20260420T102651Z
URL:https://business.stgeorgechamber.com/events/details/poppies-perspectives-08-14-2015-7041
END:VEVENT

END:VCALENDAR
