BEGIN:VCALENDAR
VERSION:2.0
PRODID:-//ChamberMaster//Event Calendar 2.0//EN
METHOD:PUBLISH
X-PUBLISHED-TTL:P3D
REFRESH-INTERVAL:P3D
CALSCALE:GREGORIAN
BEGIN:VEVENT
DTSTART:20150221T170000Z
DTEND:20150221T190000Z
X-MICROSOFT-CDO-ALLDAYEVENT:FALSE
SUMMARY:Polar Plunge 2015
DESCRIPTION:Party like it's 32 degrees! You may have heard about the Polar Plunge from a friend\, seen it on TV or even read about it online\, but what exactly is this "Plunge" everyone is talking about?\n\n\n\nThe Polar Plunge is hosted by Special Olympics Utah and supported by Utah's Law Enforcement. It's a unique opportunity for individuals\, organizations and businesses to support Special Olympics Utah athletes by raising money to jump into frigid water.\n\n\n\nBeginning in January\, there will be 3 opportunities to take the Plunge across the state. The participants\, also known as Plungers\, raise a minimum of $50 to jump to frozen glory. Plungers can raise additional funds\, earning them extra incentives along the way!  Each plunge is different and has an exciting atmosphere that you can get involved in. \n\n \n\nThis year the St. George Police Department and the Washington County Sherriff's office will be teaming up\, so grab your friends and come out to the St. George City Pool to take the Plunge for Special Olympics Utah. Joins us at 10 a.m. for a Sherriff's pancake breakfast\, hot cocoa and coffee\, bagels and sandwiches provided by Einstein Bros. and Chick-fil-A.
X-ALT-DESC;FMTTYPE=text/html:<p style="margin: 0px\; padding: 5px 12.03125px\; border: 0px\; font-size: 13px\; font-family: sans-serif\; vertical-align: baseline\; outline: 0px\; color: rgb(68\, 68\, 68)\; line-height: 16.003000259399414px\;"><strong>Party like it&#39\;s 32 degrees!</strong> You may have heard about the Polar Plunge from a friend\, seen it on TV or even read about it online\, but what exactly is this &quot\;Plunge&quot\; everyone is talking about?<br />\n<br />\nThe Polar Plunge is hosted by Special Olympics Utah and supported by Utah&#39\;s Law Enforcement. It&#39\;s a unique opportunity for individuals\, organizations and businesses to support Special Olympics Utah athletes by raising money to jump into frigid water.<br />\n<br />\nBeginning in January\, there will be 3 opportunities to take the Plunge across the state. The participants\, also known as Plungers\, raise a minimum of $50 to jump to frozen glory. Plungers can raise additional funds\, earning them extra incentives along the way! &nbsp\;Each plunge is different and has an exciting atmosphere that you can get involved in.&nbsp\;<br />\n&nbsp\;</p>\n\n<p>This year the St. George Police Department and the Washington County Sherriff&#39\;s office will be teaming up\, so grab your friends and come out to the St. George City Pool to take the Plunge for Special Olympics Utah. Joins us at 10 a.m. for a Sherriff&#39\;s pancake breakfast\, hot cocoa and coffee\, bagels and sandwiches provided by Einstein Bros. and Chick-fil-A.</p>\n
LOCATION:St. George City Pool
UID:e.1117.6284
SEQUENCE:3
DTSTAMP:20260420T204910Z
URL:https://business.stgeorgechamber.com/events/details/polar-plunge-2015-02-21-2015-6284
END:VEVENT

END:VCALENDAR
