BEGIN:VCALENDAR
VERSION:2.0
PRODID:-//ChamberMaster//Event Calendar 2.0//EN
METHOD:PUBLISH
X-PUBLISHED-TTL:P3D
REFRESH-INTERVAL:P3D
CALSCALE:GREGORIAN
BEGIN:VEVENT
DTSTART:20140222T170000Z
DTEND:20140222T190000Z
X-MICROSOFT-CDO-ALLDAYEVENT:FALSE
SUMMARY:Polar Plunge 2014
DESCRIPTION:This year the St. George Police Department and the Washington County Sheriff's office will be teaming up\, so grab your friends and come out to the St. George City Pool to take the Plunge for Special Olympics Utah. Join us at 10am for a Sheriff's pancake breakfast\, hot cocoa and coffee\, bagels and sandwiches provided by Einstein Bros. and Chick-fil-A.\n\n	Costume Contests - Fundraising Contests - Best Team Costumes\n\n	Raise money and WIN GREAT PRIZES:\n\n	$200   Beach Towel\n\n	$500   OGIO Large Duffel Bag\n\n	$1\,000   OGIO Soft Shell Jacket\n\n	$2\,000 Choice of OGIO Luggage   Kickstart 22" or 26" roller travel bag\n\n	Extra Information\n\n	Everyone registered online by February 20th will receive a t-shirt on the day of the event. If you register after February 20th you are not guaranteed to receive a commemorative Polar Plunge T-shirt at the event\, but will be able to pick yours up at the SGPD at a later date.\n\n	Once you donate or raise the minimum\, congratulations!  You are a PLUNGER! \n\n	There is no admittance fee for spectators so bring your friends and family to cheer you on!  No spectators are allowed to plunge\, but for those who show up and get the urge to take a chilly dip....day of registration is only $50 for students and $60 for adults! \n\n	Sponsored by Harmons\, Walmart\, Dealer Collision Center\, St. George Lions Club\, Zion Harley Davidson\, Tropic Ice and Simmons Media (The Mix 103.1 and X98.9)
X-ALT-DESC;FMTTYPE=text/html:<p style="margin: 0px\; padding: 5px 12.03125px\; border: 0px\; font-size: 13px\; font-family: sans-serif\; vertical-align: baseline\; outline: 0px\; color: rgb(68\, 68\, 68)\; line-height: 16.003000259399414px\;">\n	This year the St. George Police Department and the Washington County Sheriff&#39\;s office will be teaming up\, so grab your friends and come out to the St. George City Pool to take the Plunge for Special Olympics Utah. Join us at 10am for a Sheriff&#39\;s pancake breakfast\, hot cocoa and coffee\, bagels and sandwiches provided by Einstein Bros. and Chick-fil-A.</p>\n<p style="margin: 0px\; padding: 5px 12.03125px\; border: 0px\; font-size: 13px\; font-family: sans-serif\; vertical-align: baseline\; outline: 0px\; color: rgb(68\, 68\, 68)\; line-height: 16.003000259399414px\;">\n	<strong style="background-color: transparent\; font-family: inherit\; font-style: inherit\; border: 0px\; outline: 0px\; font-size: 14px\; vertical-align: baseline\;">Costume Contests - Fundraising Contests - Best Team Costumes</strong></p>\n<p style="margin: 0px\; padding: 5px 12.03125px\; border: 0px\; font-size: 13px\; font-family: sans-serif\; vertical-align: baseline\; outline: 0px\; color: rgb(68\, 68\, 68)\; line-height: 16.003000259399414px\;">\n	<strong style="border: 0px\; outline: 0px\; vertical-align: baseline\; background-color: transparent\;">Raise money and&nbsp\;<span style="margin: 0px\; padding: 0px\; border: 0px\; font-weight: inherit\; font-style: inherit\; font-family: inherit\; vertical-align: baseline\; outline: 0px\; background-color: transparent\; color: rgb(51\, 102\, 204)\;">WIN GREAT PRIZES:</span></strong></p>\n<p style="margin: 0px\; padding: 5px 12.03125px\; border: 0px\; font-size: 13px\; font-family: sans-serif\; vertical-align: baseline\; outline: 0px\; color: rgb(68\, 68\, 68)\; line-height: 16.003000259399414px\;">\n	<strong style="border: 0px\; outline: 0px\; vertical-align: baseline\; background-color: transparent\;">$200 &ndash\; Beach Towel</strong></p>\n<p style="margin: 0px\; padding: 5px 12.03125px\; border: 0px\; font-size: 13px\; font-family: sans-serif\; vertical-align: baseline\; outline: 0px\; color: rgb(68\, 68\, 68)\; line-height: 16.003000259399414px\;">\n	<strong style="border: 0px\; outline: 0px\; vertical-align: baseline\; background-color: transparent\;">$500 &ndash\; OGIO Large Duffel Bag</strong></p>\n<p style="margin: 0px\; padding: 5px 12.03125px\; border: 0px\; font-size: 13px\; font-family: sans-serif\; vertical-align: baseline\; outline: 0px\; color: rgb(68\, 68\, 68)\; line-height: 16.003000259399414px\;">\n	<strong style="border: 0px\; outline: 0px\; vertical-align: baseline\; background-color: transparent\;">$1\,000 &ndash\; OGIO Soft Shell Jacket</strong></p>\n<p style="margin: 0px\; padding: 5px 12.03125px\; border: 0px\; font-size: 13px\; font-family: sans-serif\; vertical-align: baseline\; outline: 0px\; color: rgb(68\, 68\, 68)\; line-height: 16.003000259399414px\;">\n	<strong style="border: 0px\; outline: 0px\; vertical-align: baseline\; background-color: transparent\;">$2\,000 Choice of OGIO Luggage &ndash\; Kickstart 22&rdquo\; or 26&rdquo\; roller travel bag</strong></p>\n<p style="margin: 0px\; padding: 5px 12.03125px\; border: 0px\; font-size: 13px\; font-family: sans-serif\; vertical-align: baseline\; outline: 0px\; color: rgb(68\, 68\, 68)\; line-height: 16.003000259399414px\;">\n	<span style="margin: 0px\; padding: 0px\; border: 0px\; font-weight: inherit\; font-style: inherit\; font-size: 16px\; font-family: inherit\; vertical-align: baseline\; outline: 0px\; background-color: transparent\; background-position: initial initial\; background-repeat: initial initial\;"><strong style="border: 0px\; outline: 0px\; vertical-align: baseline\; background-color: transparent\;">Extra Information</strong></span></p>\n<p style="margin: 0px\; padding: 5px 12.03125px\; border: 0px\; font-size: 13px\; font-family: sans-serif\; vertical-align: baseline\; outline: 0px\; color: rgb(68\, 68\, 68)\; line-height: 16.003000259399414px\;">\n	<span style="margin: 0px\; padding: 0px\; border: 0px\; font-weight: inherit\; font-style: inherit\; font-family: inherit\; vertical-align: baseline\; outline: 0px\; background-color: transparent\; color: rgb(0\, 0\, 0)\;">Everyone registered online by February 20th will receive a t-shirt on the day of the event. If you register after February 20th you are not&nbsp\;</span><span style="margin: 0px\; padding: 0px\; border: 0px\; font-weight: inherit\; font-style: inherit\; font-family: inherit\; vertical-align: baseline\; outline: 0px\; background-color: transparent\; color: rgb(0\, 0\, 0)\;">guaranteed to receive a commemorative Polar Plunge T-shirt at the event\, but will be able to pick yours up at the SGPD at a later date.</span></p>\n<p style="margin: 0px\; padding: 5px 12.03125px\; border: 0px\; font-size: 13px\; font-family: sans-serif\; vertical-align: baseline\; outline: 0px\; color: rgb(68\, 68\, 68)\; line-height: 16.003000259399414px\;">\n	<span style="margin: 0px\; padding: 0px\; border: 0px\; font-weight: inherit\; font-style: inherit\; vertical-align: baseline\; outline: 0px\; background-color: transparent\; color: rgb(0\, 0\, 0)\;">Once you donate or raise the minimum\, congratulations! &nbsp\;You are a PLUNGER!&nbsp\;</span></p>\n<p style="margin: 0px\; padding: 5px 12.03125px\; border: 0px\; font-size: 13px\; font-family: sans-serif\; vertical-align: baseline\; outline: 0px\; color: rgb(68\, 68\, 68)\; line-height: 16.003000259399414px\;">\n	<span style="margin: 0px\; padding: 0px\; border: 0px\; font-weight: inherit\; font-style: inherit\; font-family: inherit\; vertical-align: baseline\; outline: 0px\; background-color: transparent\; color: rgb(0\, 0\, 0)\;">There is no admittance fee for spectators so bring your friends and family to cheer you on! &nbsp\;No spectators are allowed to plunge\, but for those who show up and get the urge to take a chilly dip....day of registration is only $50 for students and $60 for adults!&nbsp\;</span></p>\n<p style="margin: 0px\; padding: 5px 12.03125px\; border: 0px\; font-size: 13px\; font-family: sans-serif\; vertical-align: baseline\; outline: 0px\; color: rgb(68\, 68\, 68)\; line-height: 16.003000259399414px\;">\n	<strong style="border: 0px\; outline: 0px\; vertical-align: baseline\; background-color: transparent\;">Sponsored by Harmons\, Walmart\, Dealer Collision Center\, St. George Lions Club\, Zion Harley Davidson\, Tropic Ice and Simmons Media (The Mix 103.1 and X98.9) &nbsp\;</strong></p>\n
LOCATION:St. George City Pool
UID:e.1117.5089
SEQUENCE:3
DTSTAMP:20260421T141804Z
URL:https://business.stgeorgechamber.com/events/details/polar-plunge-2014-02-22-2014-5089
END:VEVENT

END:VCALENDAR
