BEGIN:VCALENDAR
VERSION:2.0
PRODID:-//ChamberMaster//Event Calendar 2.0//EN
METHOD:PUBLISH
X-PUBLISHED-TTL:P3D
REFRESH-INTERVAL:P3D
CALSCALE:GREGORIAN
BEGIN:VEVENT
DTSTART:20160304T160000Z
DTEND:20160304T230000Z
X-MICROSOFT-CDO-ALLDAYEVENT:FALSE
SUMMARY:Poetry in the Park
DESCRIPTION:Day long Plain Air Poetry workshop at Zion Park Lodge with visiting poet Dr. David J. Rothman from Western Colorado State University. Day includes guided nature walk\, picnic lunch-bring your own\, poetry sharing and exploration. Carpools available from St. George area.
X-ALT-DESC;FMTTYPE=text/html:Day long Plain Air Poetry workshop at Zion Park Lodge with visiting poet Dr. David J. Rothman from Western Colorado State University. Day includes guided nature walk\, picnic lunch-bring your own\, poetry sharing and exploration. Carpools available from St. George area.
LOCATION:Zion Park Lodge in Zion National Park
UID:e.1117.7353
SEQUENCE:3
DTSTAMP:20260419T215808Z
URL:https://business.stgeorgechamber.com/events/details/poetry-in-the-park-03-04-2016-7353
END:VEVENT

END:VCALENDAR
