BEGIN:VCALENDAR
VERSION:2.0
PRODID:-//ChamberMaster//Event Calendar 2.0//EN
METHOD:PUBLISH
X-PUBLISHED-TTL:P3D
REFRESH-INTERVAL:P3D
CALSCALE:GREGORIAN
BEGIN:VEVENT
DTSTART:20150411T233000Z
DTEND:20150412T020000Z
X-MICROSOFT-CDO-ALLDAYEVENT:FALSE
SUMMARY:Planting the Seeds of Success Fundraiser
DESCRIPTION:The Assistance League of Southern Utah (ALSU) will be hosting their annual dinner/fundraiser\, Planting the Seeds of Success\, on Sat.\, April 11\, at 5:30 p.m. \n\nAs part of the nonprofit organizations fundraising efforts\, the event will feature a live auction\, silent auction and opportunity drawings for many wonderful prizes. \n\n\n\nMaking an impact and a difference in Southern Utah:\n\n\n	Operation School Bell assists financially disadvantaged children by providing new school clothing. Children who benefit from the program can see that ALSU is dedicated to supporting and their education\, helping recipients to know that going to and staying in school can make a difference to their future.\n	ALSU helps more than 5\,000 children living in homes below the poverty level in Washington County\n	ALSU volunteers work with school administrators and counselors to ensure children with the greatest need receive assistance.\n	Washington County teachers and administrators report that children's attendance improves when they can take pride in their appearance and attend school more regularly.\n\nALSU and Operation School Bell:\n\nThe Assistance League of Southern Utah is an all-volunteer organization whose mission is to help enrich the lives of the children in the Washington County School District by providing new school clothes\, shoes\, and hygiene kits. ALSU Members also support literacy programs in local schools. By providing the basic needs for these children\, they feel more confident in themselves and do better in school.\n\n\n\nAbout Assistance League of Southern Utah:\n\nThe Assistance League of Southern Utah is one of 121 chapters nationwide who support the children from disadvantage families.
X-ALT-DESC;FMTTYPE=text/html:<span style="font-size:14px\;"><span style="color: rgb(0\, 0\, 0)\; font-family: Arial\; line-height: 18px\;">The Assistance League of Southern Utah (ALSU) will be hosting their annual dinner/fundraiser\, Planting the Seeds of Success\, on Sat.\, April 11\, at 5:30 p.m.&nbsp\;<br />\nAs part of the nonprofit organizations fundraising efforts\, the event will feature a live auction\, silent auction and opportunity drawings for many wonderful prizes.&nbsp\;</span><br />\n<br style="color: rgb(0\, 0\, 0)\; font-family: Arial\; line-height: 18px\;" />\n<strong style="color: rgb(0\, 0\, 0)\; font-family: Arial\; line-height: 18px\;">Making an impact and a difference in Southern Utah:</strong></span>\n\n<ul style="font-family: verdana\, arial\, helvetica\, sans-serif\; line-height: 18px\; color: rgb(0\, 0\, 0)\;">\n	<li><span style="font-size:14px\;">Operation School Bell assists financially disadvantaged children by providing new school clothing. Children who benefit from the program can see that ALSU is dedicated to supporting and their education\, helping recipients to know that going to and staying in school can make a difference to their future.</span></li>\n	<li><span style="font-size:14px\;">ALSU helps more than 5\,000 children living in homes below the&nbsp\;poverty level&nbsp\;in Washington County</span></li>\n	<li><span style="font-size:14px\;">ALSU volunteers work with school administrators and&nbsp\;counselors to ensure children with the greatest need receive assistance.</span></li>\n	<li><span style="font-size:14px\;">Washington County teachers and administrators report that children&rsquo\;s attendance improves when they can take pride in their appearance and attend school more regularly.</span></li>\n</ul>\n<span style="font-size:14px\;"><strong style="color: rgb(0\, 0\, 0)\; font-family: Arial\; line-height: 18px\;">ALSU and Operation School Bell:</strong><br style="color: rgb(0\, 0\, 0)\; font-family: Arial\; line-height: 18px\;" />\n<span style="color: rgb(0\, 0\, 0)\; font-family: Arial\; line-height: 18px\;">The Assistance League of Southern Utah is an all-volunteer organization whose mission is to help enrich the lives of the children in the Washington County School District by providing new school clothes\, shoes\, and hygiene kits. ALSU Members also support literacy programs in local schools. By providing the basic needs for these children\, they feel more confident in themselves and do better in school.</span><br style="color: rgb(0\, 0\, 0)\; font-family: Arial\; line-height: 18px\;" />\n<br />\n<strong style="color: rgb(0\, 0\, 0)\; font-family: Arial\; line-height: 18px\;">About Assistance League of Southern Utah:</strong><br style="color: rgb(0\, 0\, 0)\; font-family: Arial\; line-height: 18px\;" />\n<span style="color: rgb(0\, 0\, 0)\; font-family: Arial\; line-height: 18px\;">The Assistance League of Southern Utah is one of 121 chapters nationwide who support the children from disadvantage families. </span></span>
LOCATION:The event will be held in the SunRiver St. George Ballroom.
UID:e.1117.6347
SEQUENCE:3
DTSTAMP:20260420T173322Z
URL:https://business.stgeorgechamber.com/events/details/planting-the-seeds-of-success-fundraiser-04-11-2015-6347
END:VEVENT

END:VCALENDAR
