BEGIN:VCALENDAR
VERSION:2.0
PRODID:-//ChamberMaster//Event Calendar 2.0//EN
METHOD:PUBLISH
X-PUBLISHED-TTL:P3D
REFRESH-INTERVAL:P3D
CALSCALE:GREGORIAN
BEGIN:VEVENT
DTSTART:20131107T023000Z
DTEND:20131110T043000Z
X-MICROSOFT-CDO-ALLDAYEVENT:FALSE
SUMMARY:Pine View High School's The King and I
DESCRIPTION:Travel to Bangkok with Pine View High School Performing Arts' production of Rodgers and Hammerstein's The King and I.  Enjoy such classic songs as "Getting to Know You\," "I Whistle a Happy Tune\," and "Shall We Dance."    Delight in beautiful costumes and scenery\, a live orchestra\, and an extensive cast of local talent.  This is a show you won't want to miss!
X-ALT-DESC;FMTTYPE=text/html:Travel to Bangkok with Pine View High School Performing Arts&#39\; production of Rodgers and Hammerstein&#39\;s The King and I. &nbsp\;Enjoy such classic songs as &quot\;Getting to Know You\,&quot\; &quot\;I Whistle a Happy Tune\,&quot\; and &quot\;Shall We Dance.&quot\; &nbsp\; &nbsp\;Delight in beautiful costumes and scenery\, a live orchestra\, and an extensive cast of local talent. &nbsp\;This is a show you won&#39\;t want to miss! 
LOCATION:Pine View High School Auditorium 2850 E 750 N\, St George\, UT 84790
UID:e.1117.4311
SEQUENCE:3
DTSTAMP:20260421T183325Z
URL:https://business.stgeorgechamber.com/events/details/pine-view-high-school-s-the-king-and-i-11-06-2013-4311
END:VEVENT

END:VCALENDAR
