BEGIN:VCALENDAR
VERSION:2.0
PRODID:-//ChamberMaster//Event Calendar 2.0//EN
METHOD:PUBLISH
X-PUBLISHED-TTL:P3D
REFRESH-INTERVAL:P3D
CALSCALE:GREGORIAN
BEGIN:VEVENT
DTSTART:20140718T010000Z
DTEND:20140718T030000Z
X-MICROSOFT-CDO-ALLDAYEVENT:FALSE
SUMMARY:Phil Wickham in Concert
DESCRIPTION:Life Concerts presents contemporary Christian vocalist and song writer Phil Wickham with Moriah Peters in concert.  Profits go to benefit the Southern Utah Veterans Home. Tickets can be found at participating churches.
X-ALT-DESC;FMTTYPE=text/html:<span style="font-size:14px\;"><span style="font-family:arial\;">Life Concerts presents contemporary Christian vocalist and song writer Phil Wickham with Moriah Peters in concert.&nbsp\; Profits go to benefit the&nbsp\;Southern Utah Veterans Home. Tickets can be found at participating churches.&nbsp\;</span></span>
LOCATION:Calvary Chapel 3922 S. Pioneer Road St. George\, UT
UID:e.1117.5303
SEQUENCE:3
DTSTAMP:20260421T070747Z
URL:https://business.stgeorgechamber.com/events/details/phil-wickham-in-concert-07-17-2014-5303
END:VEVENT

END:VCALENDAR
