BEGIN:VCALENDAR
VERSION:2.0
PRODID:-//ChamberMaster//Event Calendar 2.0//EN
METHOD:PUBLISH
X-PUBLISHED-TTL:P3D
REFRESH-INTERVAL:P3D
CALSCALE:GREGORIAN
BEGIN:VEVENT
DTSTART:20131221T020000Z
DTEND:20131221T040000Z
X-MICROSOFT-CDO-ALLDAYEVENT:FALSE
SUMMARY:Peter Breinholt in Concert
DESCRIPTION:Don't miss Peter Breinholt in Concert!\n\n \n\nSongwriter Peter Breinholt has been delighting audiences with his self-styled acoustic music for more than a decade. He has sold out every major concert hall in his home state of Utah many times over\, including Kingsbury Hall\, The Tuacahn Red Rock Amphitheater\, The Sundance Amphitheater\, Thanksgiving Point\, the de Jong Concert Hall\, among others. His credits also include six albums\, a concert DVD\, guitar songbooks\, film scores\, Pearl Awards\, songwriting awards\, and concerts with several symphony orchestras and choirs\, including the Mormon Tabernacle Choir.
X-ALT-DESC;FMTTYPE=text/html:Don&rsquo\;t miss Peter Breinholt in Concert!<br />\n&nbsp\;<br />\nSongwriter Peter Breinholt has been delighting audiences with his self-styled acoustic music for more than a decade. He has sold out every major concert hall in his home state of Utah many times over\, including Kingsbury Hall\, The Tuacahn Red Rock Amphitheater\, The Sundance Amphitheater\, Thanksgiving Point\, the de Jong Concert Hall\, among others. His credits also include six albums\, a concert DVD\, guitar songbooks\, film scores\, Pearl Awards\, songwriting awards\, and concerts with several symphony orchestras and choirs\, including the Mormon Tabernacle Choir.<br />\n
LOCATION:St. George Opera House 200 North Main\, St. George
UID:e.1117.4990
SEQUENCE:3
DTSTAMP:20260421T171417Z
URL:https://business.stgeorgechamber.com/events/details/peter-breinholt-in-concert-12-20-2013-4990
END:VEVENT

END:VCALENDAR
