BEGIN:VCALENDAR
VERSION:2.0
PRODID:-//ChamberMaster//Event Calendar 2.0//EN
METHOD:PUBLISH
X-PUBLISHED-TTL:P3D
REFRESH-INTERVAL:P3D
CALSCALE:GREGORIAN
BEGIN:VEVENT
DTSTART:20160604T150000Z
DTEND:20160604T190000Z
X-MICROSOFT-CDO-ALLDAYEVENT:FALSE
SUMMARY:Pet Festival\, 8th Annual
DESCRIPTION:Have a rockin' good time at the 8th Annual Pet Festival June 4th from 9am-1pm! FREE admission with lots of vendor booths including pet care\, grooming\, nutrition\, pet sitters and many more! Bring your family and pets for a morning filled with fun\, door prizes\, and good food! Enter the Cutest Pet photo contest online and vote for your favorite at the Festival! If your pet is a fashion diva\, be sure to enter them in the Best Dressed Fashion Show! Or if natural beauty is more their thing\, take a turn down the red carpet in the Fur Real Beauty Pageant! Enter as many as you like for just $5 each! Proceeds benefit local rescues and shelters. Where else can you have such fun and support such a great cause? We'll see you there! For more information\, contact us at www.sunrivertoday.com 435-773-4100 or events@swmlife.com.
X-ALT-DESC;FMTTYPE=text/html:Have a rockin&rsquo\; good time at the 8th Annual Pet Festival June 4th from 9am-1pm! FREE admission with lots of vendor booths including pet care\, grooming\, nutrition\, pet sitters and many more! Bring your family and pets for a morning filled with fun\, door prizes\, and good food! Enter the Cutest Pet photo contest online and vote for your favorite at the Festival! If your pet is a fashion diva\, be sure to enter them in the Best Dressed Fashion Show! Or if natural beauty is more their thing\, take a turn down the red carpet in the Fur Real Beauty Pageant! Enter as many as you like for just $5 each! Proceeds benefit local rescues and shelters. Where else can you have such fun and support such a great cause? We&rsquo\;ll see you there! For more information\, contact us at www.sunrivertoday.com 435-773-4100 or events@swmlife.com.
LOCATION:SunRiver Golf Course 4275 S. Country Club Drive St. George\, UT 84790
UID:e.1117.8716
SEQUENCE:3
DTSTAMP:20260419T165324Z
URL:https://business.stgeorgechamber.com/events/details/pet-festival-8th-annual-06-04-2016-8716
END:VEVENT

END:VCALENDAR
