BEGIN:VCALENDAR
VERSION:2.0
PRODID:-//ChamberMaster//Event Calendar 2.0//EN
METHOD:PUBLISH
X-PUBLISHED-TTL:P3D
REFRESH-INTERVAL:P3D
CALSCALE:GREGORIAN
BEGIN:VEVENT
DTSTART:20150425T150000Z
DTEND:20150425T190000Z
X-MICROSOFT-CDO-ALLDAYEVENT:FALSE
SUMMARY:Pet Festival\, 7th Annual
DESCRIPTION:Have a rockin' good time at the 7th Annual Pet Festival April 25th from 9am-1pm! FREE admission with over 30 vendor booths including pet care\, grooming\, nutrition\, pet sitters and many more! Bring your family and pets for a morning filled with fun! Kids will have a blast with fun balloons\, face painting and coloring contest and live animal interactions. Door prizes\, good food and live music rounds out the day! Enter the Cutest Pet photo contest online and vote for your favorite at the Festival! If your pet is a fashion diva\, be sure to enter them in the Best Dressed Fashion Show! Or if natural beauty is more their thing\, take a turn down the red carpet in the Fur Real Beauty Pageant! Enter as many as you like for just $5 each! Proceeds benefit both PAWS and Best Friends Animal Sanctuary. Where else can you have such fun and support such a great cause? We'll see you there!
X-ALT-DESC;FMTTYPE=text/html:Have a rockin&#39\;&nbsp\;good time at the 7th Annual Pet Festival April 25th from 9am-1pm! FREE admission with over 30 vendor booths including pet care\, grooming\, nutrition\, pet sitters and many more! Bring your family and pets for a morning filled with fun! Kids will have a blast with fun balloons\, face painting and coloring contest and live animal interactions. Door prizes\, good food and live music rounds out the day! Enter the Cutest Pet photo contest online and vote for your favorite at the Festival! If your pet is a fashion diva\, be sure to enter them in the Best Dressed Fashion Show! Or if natural beauty is more their thing\, take a turn down the red carpet in the Fur Real Beauty Pageant! Enter as many as you like for just $5 each! Proceeds benefit both PAWS and Best Friends Animal Sanctuary. Where else can you have such fun and support such a great cause? We&#39\;ll see you there!&nbsp\;
LOCATION:SunRiver Golf Course 4275 S. Country Club Drive St. George\, UT 84790
UID:e.1117.6381
SEQUENCE:3
DTSTAMP:20260420T190936Z
URL:https://business.stgeorgechamber.com/events/details/pet-festival-7th-annual-04-25-2015-6381
END:VEVENT

END:VCALENDAR
