BEGIN:VCALENDAR
VERSION:2.0
PRODID:-//ChamberMaster//Event Calendar 2.0//EN
METHOD:PUBLISH
X-PUBLISHED-TTL:P3D
REFRESH-INTERVAL:P3D
CALSCALE:GREGORIAN
BEGIN:VEVENT
DTSTART:20251208T000000Z
DTEND:20251208T020000Z
X-MICROSOFT-CDO-ALLDAYEVENT:FALSE
SUMMARY:PEARL HARBOR REMEMBRANCE DAY USS UTAH CEREMONY
DESCRIPTION:Honoring  the USS Utah (BB-31/AG-16) and her 58 fallen sailors\, and celebrating the legacy that lives on through the new USS Utah (SSN-801) and those who serve today. The USS Utah-forgotten no more!\n\n\n\nOpen House with light refreshments
X-ALT-DESC;FMTTYPE=text/html:<div class="page" title="Page 1">\n<div class="layoutArea">\n<div class="column">\n<p><font face="arial"><span style="font-size: 22.6667px\;">Honoring&nbsp\; the USS Utah (BB-31/AG-16) and her 58 fallen sailors\, and celebrating the legacy that lives on through the new USS Utah (SSN-801) and those who serve today. The USS Utah-forgotten no more!</span></font><br />\n<br />\n<span style="font-size:22px\;"><span style="font-family:arial\;"><strong style="color: rgb(34\, 34\, 34)\; font-family: Arial\, Helvetica\, sans-serif\; font-size: small\;">Open House with light refreshments</strong></span></span></p>\n</div>\n</div>\n</div>\n
LOCATION:Heritage Hall
UID:e.1117.18440
SEQUENCE:3
DTSTAMP:20260425T162819Z
URL:https://business.stgeorgechamber.com/events/details/pearl-harbor-remembrance-day-uss-utah-ceremony-18440
END:VEVENT

END:VCALENDAR
