BEGIN:VCALENDAR
VERSION:2.0
PRODID:-//ChamberMaster//Event Calendar 2.0//EN
METHOD:PUBLISH
X-PUBLISHED-TTL:P3D
REFRESH-INTERVAL:P3D
CALSCALE:GREGORIAN
BEGIN:VEVENT
DTSTART:20140920T013000Z
DTEND:20140920T030000Z
X-MICROSOFT-CDO-ALLDAYEVENT:FALSE
SUMMARY:Patriotic Concert in the Park
DESCRIPTION:The Dixie State Symphony Orchestra kicks of its 14-15 season with their annual Pops Concert in the park.  The annual patriotic pops concert is suitable for all ages and is sponsored by Dixie State University and the City of St. George.  Bring your blankets and chairs and enjoy the orchestral music of Sousa\, Leroy Anderson\, and others.  The orchestra will conclude with Tchaikovsky's popular 1812 Overture.
X-ALT-DESC;FMTTYPE=text/html:<span style="font-size:14px\;"><span style="font-family:arial\;">The Dixie State Symphony Orchestra kicks of its 14-15 season with their annual Pops Concert in the park. &nbsp\;The annual patriotic pops concert is suitable for all ages and is sponsored by Dixie State University and the City of St. George.&nbsp\; Bring your blankets and chairs and enjoy the orchestral music of Sousa\, Leroy Anderson\, and others.&nbsp\; The orchestra will conclude with Tchaikovsky&rsquo\;s popular 1812 Overture. &nbsp\;</span></span>
LOCATION:St. George Town Square
UID:e.1117.6119
SEQUENCE:3
DTSTAMP:20260421T055130Z
URL:https://business.stgeorgechamber.com/events/details/patriotic-concert-in-the-park-09-19-2014-6119
END:VEVENT

END:VCALENDAR
