BEGIN:VCALENDAR
VERSION:2.0
PRODID:-//ChamberMaster//Event Calendar 2.0//EN
METHOD:PUBLISH
X-PUBLISHED-TTL:P3D
REFRESH-INTERVAL:P3D
CALSCALE:GREGORIAN
BEGIN:VEVENT
DTSTART;VALUE=DATE:20140727
DTEND;VALUE=DATE:20140728
TRANSP:TRANSPARENT
X-MICROSOFT-CDO-ALLDAYEVENT:TRUE
SUMMARY:Parents Day
DESCRIPTION:In the United States\, Parents' Day is held on the fourth Sunday of every July. This was established in 1994 when President Bill Clinton signed a Congressional Resolution into law for "recognizing\, uplifting\, and supporting the role of parents in the rearing of children." The bill was introduced by Republican Senator Trent Lott. It was supported by members of the Unification Church which also celebrates a holiday called Parents' Day\, although on a different date. Parents' Day is celebrated throughout the United States. United States Supreme Court Justice Ruth Bader Ginsburg has said: "Replacing Mother's Day and Father's Day with a Parents' Day should be considered\, as an observance more consistent with a policy of minimizing traditional sex-based differences in parental roles.
X-ALT-DESC;FMTTYPE=text/html:In the United States\, Parents&#39\; Day is held on the fourth Sunday of every July. This was established in 1994 when President Bill Clinton signed a Congressional Resolution into law for &quot\;recognizing\, uplifting\, and supporting the role of parents in the rearing of children.&quot\; The bill was introduced by Republican Senator Trent Lott. It was supported by members of the Unification Church which also celebrates a holiday called Parents&#39\; Day\, although on a different date. Parents&#39\; Day is celebrated throughout the United States. United States Supreme Court Justice Ruth Bader Ginsburg has said: &quot\;Replacing Mother&#39\;s Day and Father&#39\;s Day with a Parents&#39\; Day should be considered\, as an observance more consistent with a policy of minimizing traditional sex-based differences in parental roles.
LOCATION:
UID:e.1117.5067
SEQUENCE:3
DTSTAMP:20260421T070103Z
URL:https://business.stgeorgechamber.com/events/details/parents-day-07-27-2014-5067
END:VEVENT

END:VCALENDAR
