BEGIN:VCALENDAR
VERSION:2.0
PRODID:-//ChamberMaster//Event Calendar 2.0//EN
METHOD:PUBLISH
X-PUBLISHED-TTL:P3D
REFRESH-INTERVAL:P3D
CALSCALE:GREGORIAN
BEGIN:VEVENT
DTSTART:20131116T170000Z
DTEND:20131116T200000Z
X-MICROSOFT-CDO-ALLDAYEVENT:FALSE
SUMMARY:Pacific Islander Health Fair
DESCRIPTION:Governor Herbert has declared November 11-18 Pacific Islander Health Week in an effort led by the Utah Pacific Islander Health Coalition to raise awareness and work toward solutions to address the serious health issues that impact Utah's Pacific Islander community.\n\n\n\nJoin us this Saturday at the St. George Recreation Center from 10am to 1pm for free informational booths about diabetes\, gout\, and dental\, FREE flu shots\, free bounce house and face painting for the kids and much more!! Spread the word...bring your family and friends!
X-ALT-DESC;FMTTYPE=text/html:<span itemprop="description">Governor Herbert has declared November 11-18 Pacific Islander Health Week in an effort led by the Utah Pacific Islander Health Coalition to raise awareness and work toward solutions to address the serious health issues that impact Utah&#39\;s Pacific Islander community.<br />\n<br />\nJoin us this Saturday at the St. George Recreation Center from 10am to 1pm for free informational booths about diabetes\, gout\, and dental\, FREE flu shots\, free bounce house and face painting for the kids and much more!! Spread the word...bring your family and friends!</span>
LOCATION:St. George City Recreation Center 400 East 285 South St. George
UID:e.1117.4958
SEQUENCE:3
DTSTAMP:20260421T183313Z
URL:https://business.stgeorgechamber.com/events/details/pacific-islander-health-fair-11-16-2013-4958
END:VEVENT

END:VCALENDAR
