BEGIN:VCALENDAR
VERSION:2.0
PRODID:-//ChamberMaster//Event Calendar 2.0//EN
METHOD:PUBLISH
X-PUBLISHED-TTL:P3D
REFRESH-INTERVAL:P3D
CALSCALE:GREGORIAN
BEGIN:VEVENT
DTSTART:20131023T193000Z
DTEND:20131023T213000Z
X-MICROSOFT-CDO-ALLDAYEVENT:FALSE
SUMMARY:Open House and Ribbon Cutting
DESCRIPTION:Please join us for an Open House and Ribbon Cutting Ceremony as we celebrate our one year anniversary!  We are grateful for the support you have shown us over this year\, and look forward to sharing many more.\n\n\n\nRSVP\n\nDana Taylor\n\nDirector of Business Development\n\ndtaylor@therapia.net
X-ALT-DESC;FMTTYPE=text/html:Please join us for an Open House and Ribbon Cutting Ceremony as we celebrate our one year anniversary!&nbsp\; We are grateful for the support you have shown us over this year\, and look forward to sharing many more.<br />\n<br />\nRSVP<br />\nDana Taylor<br />\nDirector of Business Development<br />\ndtaylor@therapia.net
LOCATION:Ther pia Addiction Healing Center 120 West 1470 South St George\, Utah 84770
UID:e.1117.4312
SEQUENCE:3
DTSTAMP:20260421T200252Z
URL:https://business.stgeorgechamber.com/events/details/open-house-and-ribbon-cutting-10-23-2013-4312
END:VEVENT

END:VCALENDAR
