BEGIN:VCALENDAR
VERSION:2.0
PRODID:-//ChamberMaster//Event Calendar 2.0//EN
METHOD:PUBLISH
X-PUBLISHED-TTL:P3D
REFRESH-INTERVAL:P3D
CALSCALE:GREGORIAN
BEGIN:VEVENT
DTSTART:20151210T023000Z
DTEND:20151210T050000Z
X-MICROSOFT-CDO-ALLDAYEVENT:FALSE
SUMMARY:Odyssey Dance Presents Redux Nut-Cracker
DESCRIPTION:Odyssey Dance Theatre does it again and will present its own version of the Holiday Dance Classic - The Nutcracker!  ODT will bring this production to life in the present day\, with the original Tchaikovsky score re-imagined and arranged in a pop/hip-hop style! Imagine Clara as the young lady whose imagination is inspired by the technological advances of today and is drawn into her smartphone to a magical world where Drosselmeyer drives a DeLorean\, the soldiers are actually robots\, and the gangsta mice have a hip-hop swagga. If you've been to one too many Nutcrackers\, then this is the one you will want to see--re-imagined\, updated\, and a visual feast full of surprises.
X-ALT-DESC;FMTTYPE=text/html:<span style="font-size:14px\;"><span style="font-family:arial\;">Odyssey Dance Theatre does it again and will present its own version of the Holiday Dance Classic - The Nutcracker!&nbsp\; ODT will bring this production to life in the present day\, with the original Tchaikovsky score re-imagined and arranged in a pop/hip-hop style! Imagine Clara as the young lady whose imagination is inspired by the technological advances of today and is drawn into her smartphone to a magical world where Drosselmeyer drives a DeLorean\, the soldiers are actually robots\, and the gangsta mice have a hip-hop swagga. If you&#39\;ve been to one too many Nutcrackers\, then this is the one you will want to see--re-imagined\, updated\, and a visual feast full of surprises.</span></span>
LOCATION:Cox Performing Arts Center Dixie State University 225 S. 700 E. St. George
UID:e.1117.7375
SEQUENCE:3
DTSTAMP:20260420T031137Z
URL:https://business.stgeorgechamber.com/events/details/odyssey-dance-presents-redux-nut-cracker-12-09-2015-7375
END:VEVENT

END:VCALENDAR
