BEGIN:VCALENDAR
VERSION:2.0
PRODID:-//ChamberMaster//Event Calendar 2.0//EN
METHOD:PUBLISH
X-PUBLISHED-TTL:P3D
REFRESH-INTERVAL:P3D
CALSCALE:GREGORIAN
BEGIN:VEVENT
DTSTART:20150317T013000Z
DTEND:20150317T023000Z
X-MICROSOFT-CDO-ALLDAYEVENT:FALSE
SUMMARY:Odan Celtic Music St. Patrick's Day Concert
DESCRIPTION:Odan Celtic Music St. Patrick's Day Concert WHO: Performance by ODAN-A group that weaves traditional and Celtic Infusion music. Donations accepted to support the Arts.
X-ALT-DESC;FMTTYPE=text/html:Odan Celtic Music St. Patrick&#39\;s Day Concert WHO: Performance by ODAN-A group that weaves traditional and Celtic Infusion music. Donations accepted to support the Arts.
LOCATION:DiFiore Art Center-The "D" Center 307 North Main. St. George\, Utah 84770
UID:e.1117.6304
SEQUENCE:3
DTSTAMP:20260420T204500Z
URL:https://business.stgeorgechamber.com/events/details/odan-celtic-music-st-patrick-s-day-concert-03-16-2015-6304
END:VEVENT

END:VCALENDAR
