BEGIN:VCALENDAR
VERSION:2.0
PRODID:-//ChamberMaster//Event Calendar 2.0//EN
METHOD:PUBLISH
X-PUBLISHED-TTL:P3D
REFRESH-INTERVAL:P3D
CALSCALE:GREGORIAN
BEGIN:VEVENT
DTSTART:20150726T020000Z
DTEND:20150726T040000Z
X-MICROSOFT-CDO-ALLDAYEVENT:FALSE
SUMMARY:O.C. Tanner Summer Concert Series: Todo Mundo
DESCRIPTION:The OC Tanner summer concert series is excited to be bringing to our stage the talents of Todo Mundo.  Todo Mundo ("All the World") blends the musical flavors of Rumba\, Reggae\, Samba\, and Middle Eastern styles into an irresistible groove that has been moving dance floors and connecting with audiences from Southern California to South America since 2009.\n\n\n\nThrough music\, Todo Mundo has learned to share their soul and experiences with the world.  The power of music allows them to transmit their messages of equality and diversity.  The band is a manifestation of these messages\, containing talented musicians from all over the world (Columbia\, Israel\, Canada\, & the U.S.). Their music and performances possess explosive energy that celebrates life and unity\, with the aim of connecting with people from all over the world\, and encouraging them to live in the present\, as one.
X-ALT-DESC;FMTTYPE=text/html:<p style="color: rgb(0\, 0\, 0)\; font-family: Tahoma\, Geneva\, sans-serif\; font-size: medium\; line-height: normal\;"><span style="font-size:14px\;"><span style="font-family:arial\;">The OC Tanner summer concert series is excited to be bringing to our stage the talents of <span style="color: rgb(0\, 0\, 0)\; line-height: normal\;">Todo Mundo. &nbsp\;Todo Mundo&nbsp\;(&ldquo\;All the World&rdquo\;) blends the musical flavors of Rumba\, Reggae\, Samba\, and Middle Eastern styles into an irresistible groove that has been moving dance floors and connecting with audiences from Southern California to South America since 2009.</span><br style="color: rgb(0\, 0\, 0)\; font-family: arial\; font-size: 14px\; line-height: normal\;" />\n<br style="color: rgb(0\, 0\, 0)\; font-family: arial\; font-size: 14px\; line-height: normal\;" />\n<span style="color: rgb(0\, 0\, 0)\; line-height: normal\;">Through music\, Todo Mundo has learned to share their soul and experiences with the world.&nbsp\; The power of music allows them to transmit their messages of equality and diversity.&nbsp\; The band is a manifestation of these messages\, containing talented musicians from all over the world (Columbia\, Israel\, Canada\, &amp\; the U.S.). Their music and performances possess explosive energy that celebrates life and unity\, with the aim of connecting with people from all over the world\, and encouraging them to live in the present\, as one.</span></span></span></p>\n
LOCATION:Tanner Amphitheater Springdale\, Utah
UID:e.1117.6982
SEQUENCE:3
DTSTAMP:20260420T121816Z
URL:https://business.stgeorgechamber.com/events/details/o-c-tanner-summer-concert-series-todo-mundo-07-25-2015-6982
END:VEVENT

END:VCALENDAR
