BEGIN:VCALENDAR
VERSION:2.0
PRODID:-//ChamberMaster//Event Calendar 2.0//EN
METHOD:PUBLISH
X-PUBLISHED-TTL:P3D
REFRESH-INTERVAL:P3D
CALSCALE:GREGORIAN
BEGIN:VEVENT
DTSTART:20150830T020000Z
DTEND:20150830T040000Z
X-MICROSOFT-CDO-ALLDAYEVENT:FALSE
SUMMARY:O.C. Tanner Summer Concert Series: Sam Payne
DESCRIPTION:The OC Tanner summer concert series is excited to be bringing to our stage the talents of Sam Payne.\n\nWhat are people saying about a Sam Payne show?\n\nGlenn Beck said\, "Listening to the lyrics--that song about his grandfather\; Holy Cow! Some of the best lyrics I've ever heard."\n\nRich Panessa stated\, "Payne\, known for his jazzed folk tunes and flair for good stories\, is a 'must see' show full of entertainment that's just right for audiences across the board."\n\nCome and see for yourself what all the fuss is about.  August 29th at 8pm at the O.C. Tanner Amphitheater in beautiful Springdale\, Utah\, Sam will take the stage.  We will see you there!
X-ALT-DESC;FMTTYPE=text/html:<p style="color: rgb(0\, 0\, 0)\; font-family: Tahoma\, Geneva\, sans-serif\; font-size: medium\; line-height: normal\;"><span style="font-size:14px\;"><span style="font-family:arial\;">The OC Tanner summer concert series is excited to be bringing to our stage the talents of Sam Payne.</span></span></p>\n\n<p style="color: rgb(0\, 0\, 0)\; font-family: Tahoma\, Geneva\, sans-serif\; font-size: medium\; line-height: normal\;"><span style="font-size:14px\;"><span style="font-family:arial\;">What are people saying about a Sam Payne show?</span></span></p>\n\n<p style="color: rgb(0\, 0\, 0)\; font-family: Tahoma\, Geneva\, sans-serif\; font-size: medium\; line-height: normal\;"><span style="font-size:14px\;"><span style="font-family:arial\;">Glenn Beck said\,&nbsp\;&quot\;Listening to the lyrics--that song about his grandfather\; Holy Cow! Some of the best lyrics I&#39\;ve ever heard.&quot\;</span></span></p>\n\n<p style="color: rgb(0\, 0\, 0)\; font-family: Tahoma\, Geneva\, sans-serif\; font-size: medium\; line-height: normal\;"><span style="font-size:14px\;"><span style="font-family:arial\;">Rich Panessa stated\,&nbsp\;&quot\;Payne\, known for his jazzed folk tunes and flair for good stories\, is a &#39\;must see&#39\; show full of entertainment that&#39\;s just right for audiences across the board.&quot\;</span></span></p>\n\n<p style="color: rgb(0\, 0\, 0)\; font-family: Tahoma\, Geneva\, sans-serif\; font-size: medium\; line-height: normal\;"><span style="font-size:14px\;"><span style="font-family:arial\;">Come and see for yourself what all the fuss is about. &nbsp\;August 29th at 8pm at the O.C. Tanner Amphitheater in beautiful Springdale\, Utah\, Sam will take the stage. &nbsp\;We will see you there!</span></span></p>\n
LOCATION:Tanner Amphitheater Springdale\, Utah
UID:e.1117.6984
SEQUENCE:3
DTSTAMP:20260420T102810Z
URL:https://business.stgeorgechamber.com/events/details/o-c-tanner-summer-concert-series-sam-payne-08-29-2015-6984
END:VEVENT

END:VCALENDAR
