BEGIN:VCALENDAR
VERSION:2.0
PRODID:-//ChamberMaster//Event Calendar 2.0//EN
METHOD:PUBLISH
X-PUBLISHED-TTL:P3D
REFRESH-INTERVAL:P3D
CALSCALE:GREGORIAN
BEGIN:VEVENT
DTSTART:20150823T020000Z
DTEND:20150823T040000Z
X-MICROSOFT-CDO-ALLDAYEVENT:FALSE
SUMMARY:O.C. Tanner Summer Concert Series: Many Miles
DESCRIPTION:The OC Tanner summer concert series is excited to be bringing to our stage the talents of Many Miles.  The vision of two married singer/songwriters\, Dave Tate and Victoria Lagerstrom\, Many Miles fuses together the improvisational\, acoustic rock of the Dave Matthews Band\, the pop/blues sensibilities of John Mayer\, the world-beat and jazz explorations of Paul Simon\, and the reggae-influenced pop/rock of the Police. Many Miles has an ability to connect with a wide range of audiences through their intimately powerful and varied songwriting and energetic\, passionately unique performances. Many Miles plays with the improvisational instincts of a jazz group and the raw energy of a rock band.
X-ALT-DESC;FMTTYPE=text/html:<p style="color: rgb(0\, 0\, 0)\; font-family: Tahoma\, Geneva\, sans-serif\; font-size: medium\; line-height: normal\;"><span style="font-size:14px\;">The OC Tanner summer concert series is excited to be bringing to our stage the talents of Many Miles. &nbsp\;<span style="color: rgb(0\, 0\, 0)\; font-family: Tahoma\, Geneva\, sans-serif\; line-height: normal\;">The vision of two married singer/songwriters\, Dave Tate and Victoria Lagerstrom\, Many Miles fuses together the improvisational\, acoustic rock of the Dave Matthews Band\, the pop/blues sensibilities of John Mayer\, the world-beat and jazz explorations of Paul Simon\, and the reggae-influenced pop/rock of the Police. Many Miles has an ability to connect with a wide range of audiences through their intimately powerful and varied songwriting and energetic\, passionately unique performances. Many Miles plays with the improvisational instincts of a jazz group and the raw energy of a rock band.</span></span></p>\n
LOCATION:Tanner Amphitheater Springdale\, Utah
UID:e.1117.6983
SEQUENCE:3
DTSTAMP:20260420T103734Z
URL:https://business.stgeorgechamber.com/events/details/o-c-tanner-summer-concert-series-many-miles-08-22-2015-6983
END:VEVENT

END:VCALENDAR
