BEGIN:VCALENDAR
VERSION:2.0
PRODID:-//ChamberMaster//Event Calendar 2.0//EN
METHOD:PUBLISH
X-PUBLISHED-TTL:P3D
REFRESH-INTERVAL:P3D
CALSCALE:GREGORIAN
BEGIN:VEVENT
DTSTART:20150712T020000Z
DTEND:20150712T040000Z
X-MICROSOFT-CDO-ALLDAYEVENT:FALSE
SUMMARY:O.C. Tanner Summer Concert Series: Incendio
DESCRIPTION:The OC Tanner summer concert series is excited to be bringing to our stage the talents of Incendio.  Incendio will delight audiences with instrumental music featuring classical\, jazz\, rock\, flamenco\, Celtic\, and even bluegrass influences.\n\nLocal favorite\, The Kolobs\, featuring Nic Chamberlain and Ryan Tilby\, will open the show.
X-ALT-DESC;FMTTYPE=text/html:<p style="color: rgb(0\, 0\, 0)\; font-family: Tahoma\, Geneva\, sans-serif\; font-size: medium\; line-height: normal\;">The OC Tanner summer concert series is excited to be bringing to our stage the talents of Incendio. &nbsp\;<span style="line-height: 1.6\;">Incendio will delight audiences with instrumental music featuring classical\, jazz\, rock\, flamenco\, Celtic\, and even bluegrass influences.</span></p>\n\n<p style="color: rgb(0\, 0\, 0)\; font-family: Tahoma\, Geneva\, sans-serif\; font-size: medium\; line-height: normal\;"><span style="line-height: 1.6\;">Local favorite\, The Kolobs\, featuring Nic Chamberlain and Ryan Tilby\, will open the show.</span></p>\n
LOCATION:Tanner Amphitheater Springdale\, Utah
UID:e.1117.6980
SEQUENCE:3
DTSTAMP:20260420T133651Z
URL:https://business.stgeorgechamber.com/events/details/o-c-tanner-summer-concert-series-incendio-07-11-2015-6980
END:VEVENT

END:VCALENDAR
