BEGIN:VCALENDAR
VERSION:2.0
PRODID:-//ChamberMaster//Event Calendar 2.0//EN
METHOD:PUBLISH
X-PUBLISHED-TTL:P3D
REFRESH-INTERVAL:P3D
CALSCALE:GREGORIAN
BEGIN:VEVENT
DTSTART:20140322T010000Z
DTEND:20140322T030000Z
X-MICROSOFT-CDO-ALLDAYEVENT:FALSE
SUMMARY:Night of Music and Magic
DESCRIPTION:The Spectrum & Daily News presents a Night of Music and Magic\, featuring Sala Tumanuvao in concert with a comedy magic show by Max the Magician. All proceeds go to Big Brothers Big Sisters of Southern Utah for its annual Bowl For Kids' Sake fundraiser on March 29.
X-ALT-DESC;FMTTYPE=text/html:<span style="color:black\;"><span style="font-family:verdana\,sans-serif\;"><span style="font-size:8.0pt\;">The Spectrum &amp\; Daily News presents a Night of Music and Magic\, featuring Sala Tumanuvao in concert with a comedy magic show by Max the Magician. All proceeds go to Big Brothers Big Sisters of Southern Utah for its annual Bowl For Kids&#39\; Sake fundraiser on March 29. &nbsp\;</span></span></span>
LOCATION:Fossil Ridge Intermediate School Theatre 383 S. Mall Drive St. George
UID:e.1117.5134
SEQUENCE:3
DTSTAMP:20260421T125859Z
URL:https://business.stgeorgechamber.com/events/details/night-of-music-and-magic-03-21-2014-5134
END:VEVENT

END:VCALENDAR
