BEGIN:VCALENDAR
VERSION:2.0
PRODID:-//ChamberMaster//Event Calendar 2.0//EN
METHOD:PUBLISH
X-PUBLISHED-TTL:P3D
REFRESH-INTERVAL:P3D
CALSCALE:GREGORIAN
BEGIN:VEVENT
DTSTART:20140905T220000Z
DTEND:20140906T040000Z
X-MICROSOFT-CDO-ALLDAYEVENT:FALSE
SUMMARY:"Night Flight Over Dixie" Golf Tournament
DESCRIPTION:The purpose of our event is to provide our Chamber members a venue to build relationships with others in an informal setting.  Along with the chance to play golf at night with glow in the dark balls\, another exciting thing about this tournament is that we will be playing 9 holes of golf on a mini course where we will be offering 9 amazing hole in one prizes (or closest to) that players will have a chance to win. These are very short par 3 holes ranging from 50 yards to 120 yards.\n\nPrizes Donated From:\n\n*Camping World\n\n*Platinum Mortgage\n\n*Boulevard Home Furnishings\n\n*and many others!\n\n\n\nJoin the Chamber of Commerce as we bring back "Night Flight!"  This golf tournament is guaranteed to be a hole in one!
X-ALT-DESC;FMTTYPE=text/html:<span style="font-family:arial\;"><span style="font-size:14px\;">The purpose of our event is to provide our Chamber members a venue to build relationships with others in an informal setting.&nbsp\; Along with the chance to play golf at night with glow in the dark balls\, another exciting thing about this tournament is that we will be playing 9 holes of golf on a mini course where we will be offering 9 amazing hole in one prizes (or closest to) that players will have a chance to win. These are very short par 3 holes ranging from 50 yards to 120 yards.<br />\nPrizes Donated From:<br />\n*Camping World<br />\n*Platinum Mortgage<br />\n*Boulevard Home Furnishings<br />\n*and many others!<br />\n<br />\n<span style="line-height: 1.6\;">Join the Chamber of Commerce as we bring back &quot\;Night Flight!&quot\;&nbsp\; This golf tournament is guaranteed to be a hole in one!</span></span></span>
LOCATION:Sand Hollow Golf Course 5625 W. Clubhouse Drive Hurricane\, UT
UID:e.1117.6041
SEQUENCE:3
DTSTAMP:20260421T043131Z
URL:https://business.stgeorgechamber.com/events/details/night-flight-over-dixie-golf-tournament-09-05-2014-6041
END:VEVENT

END:VCALENDAR
