BEGIN:VCALENDAR
VERSION:2.0
PRODID:-//ChamberMaster//Event Calendar 2.0//EN
METHOD:PUBLISH
X-PUBLISHED-TTL:P3D
REFRESH-INTERVAL:P3D
CALSCALE:GREGORIAN
BEGIN:VEVENT
DTSTART:20140101T020000Z
DTEND:20140101T053000Z
X-MICROSOFT-CDO-ALLDAYEVENT:FALSE
SUMMARY:New Year's Eve Party of the Decades
DESCRIPTION:Make plans this New Year?s Eve to party through the decades at The Fish Rock Grille at The Ledges Golf Club. Dust off your platform shoes or pull on your leg warmers and come dressed in your favorite decade. Bring in the New Year with a live DJ\, games\, prizes\, and awards for the Best Dressed. Admission is $65 per couple and includes appetizers\, dinner\, dessert\, and entertainment.  To purchase tickets call 634-4650 or visit The Fish Rock Grille at The Ledges Golf Club.
X-ALT-DESC;FMTTYPE=text/html:Make plans this New Year?s Eve to party through the decades at The Fish Rock Grille at The Ledges Golf Club. Dust off your platform shoes or pull on your leg warmers and come dressed in your favorite decade. Bring in the New Year with a live DJ\, games\, prizes\, and awards for the Best Dressed. Admission is $65 per couple and includes appetizers\, dinner\, dessert\, and entertainment. &nbsp\;To purchase tickets call 634-4650 or visit The Fish Rock Grille at The Ledges Golf Club.
LOCATION:The Fish Rock Grille inside the Ledges Golf Club
UID:e.1117.4991
SEQUENCE:3
DTSTAMP:20260421T171918Z
URL:https://business.stgeorgechamber.com/events/details/new-year-s-eve-party-of-the-decades-12-31-2013-4991
END:VEVENT

END:VCALENDAR
