BEGIN:VCALENDAR
VERSION:2.0
PRODID:-//ChamberMaster//Event Calendar 2.0//EN
METHOD:PUBLISH
X-PUBLISHED-TTL:P3D
REFRESH-INTERVAL:P3D
CALSCALE:GREGORIAN
BEGIN:VEVENT
DTSTART:20150522T013000Z
DTEND:20150522T030000Z
X-MICROSOFT-CDO-ALLDAYEVENT:FALSE
SUMMARY:NEW HORIZONS BAND AND ORCHESTRA
DESCRIPTION:To culminate the first year of the New Horizons Band and Orchestra in St. George\, we will hold a free concert. Music played will include: All Ye Young Sailors & Prairie Songs by Pierre La Plante and Country Wildflowers by Larry Daehn The orchestra will play Harvest Reel\, Largo (from the New World Symphony) by Dvorak\, Country Gardens\, and Processional (from Water Music) by Handel. In September\, the first New Horizons Band and Orchestra Zion Music
X-ALT-DESC;FMTTYPE=text/html:To culminate the first year of the New Horizons Band and Orchestra in St. George\, we will hold a free concert. Music played will include: All Ye Young Sailors &amp\; Prairie Songs by Pierre La Plante and Country Wildflowers by Larry Daehn The orchestra will play Harvest Reel\, Largo (from the New World Symphony) by Dvorak\, Country Gardens\, and Processional (from Water Music) by Handel. In September\, the first New Horizons Band and Orchestra Zion Music
LOCATION:The Westside Baptist Church 2299 West 2000 North\, St. George\, UT 84770 (Just west of Snow Canyon Parkway on 2000 N.).
UID:e.1117.6447
SEQUENCE:3
DTSTAMP:20260420T155109Z
URL:https://business.stgeorgechamber.com/events/details/new-horizons-band-and-orchestra-05-21-2015-6447
END:VEVENT

END:VCALENDAR
