BEGIN:VCALENDAR
VERSION:2.0
PRODID:-//ChamberMaster//Event Calendar 2.0//EN
METHOD:PUBLISH
X-PUBLISHED-TTL:P3D
REFRESH-INTERVAL:P3D
CALSCALE:GREGORIAN
BEGIN:VEVENT
DTSTART:20151010T160000Z
DTEND:20151011T000000Z
X-MICROSOFT-CDO-ALLDAYEVENT:FALSE
SUMMARY:New Harmony Apple Harvest Festival
DESCRIPTION:The Apple Festival is an annual fundraiser for our 100% volunteer fire department and 100% of the profits go to purchase lifesaving equipment and supplies. This will be our 17th year. Last year we we're able to raise about   $3\,500 and had about 3\,000 in attendance throughout the day.\n\nHomemade crafts and goods\n\nApple pie eating contest\n\nLive music\n\nRaffle\n\nBake sale\n\nMechanical bull\n\nRock wall\n\nCarnival games\n\nLife safety trailer
X-ALT-DESC;FMTTYPE=text/html:The Apple Festival is an annual fundraiser for our 100% volunteer fire department and 100% of the profits go to purchase lifesaving equipment and supplies. This will be our 17th year. Last year we we&#39\;re able to raise about&nbsp\;&nbsp\; $3\,500 and had about 3\,000 in attendance throughout the day.<br />\nHomemade crafts and goods<br />\nApple pie eating contest<br />\nLive music<br />\nRaffle<br />\nBake sale<br />\nMechanical bull<br />\nRock wall<br />\nCarnival games<br />\nLife safety trailer<br />\n&nbsp\;
LOCATION:New Harmony Town Park Exit 42\, west 5 miles
UID:e.1117.7097
SEQUENCE:3
DTSTAMP:20260420T065837Z
URL:https://business.stgeorgechamber.com/events/details/new-harmony-apple-harvest-festival-10-10-2015-7097
END:VEVENT

END:VCALENDAR
