BEGIN:VCALENDAR
VERSION:2.0
PRODID:-//ChamberMaster//Event Calendar 2.0//EN
METHOD:PUBLISH
X-PUBLISHED-TTL:P3D
REFRESH-INTERVAL:P3D
CALSCALE:GREGORIAN
BEGIN:VEVENT
DTSTART:20250514T210000Z
DTEND:20250515T000000Z
X-MICROSOFT-CDO-ALLDAYEVENT:FALSE
SUMMARY:New Grad & Alumni Statewide Career Fair
DESCRIPTION:Dear Esteemed Employers\,\n\n \n\nWe are delighted to extend a warm invitation to you for the\n\nNew Grad & Alumni Statewide Career Fair on Wednesday\, May 14th\, from 3 pm to 6 pm at the A. Ray Olpin Student Union on the beautiful University of Utah campus.\n\n \n\nThis event\, hosted in collaboration with the Utah Association of Colleges and Employers (UACE)\, connects employers with new graduates and experienced alumni from:\n\nUniversity of Utah\, Brigham Young University\, Utah Valley University\, Utah State University\, Westminster University\, Salt Lake Community College\, Weber State University\, Southern Utah University\, Utah Tech\, Snow College\, and Ensign College.\n\n \n\nCome and showcase your organization's unique opportunities and engage with diverse talent actively seeking to contribute to Utah's vibrant professional landscape. Whether you are looking to fill full-time positions or part-time roles\, this event offers a dynamic environment to meet and recruit outstanding candidates. The registration rate for this event is $400 per employer. The Government and Non-Profit Agency rate is $200. Registration deadline is May 5\, 2025.\n\n \n\nNew this year\, we're excited to introduce a Veterans Meet & Greet from 2:30 PM   3:00 PM\, providing employers with a dedicated opportunity to connect with veteran graduates and experienced alumni. These professionals bring proven leadership\, diverse skill sets\, and a strong work ethic to the workforce\, making them valuable additions to any organization.\n\n \n\nJoin us in this exciting endeavor to shape the future workforce of Utah while expanding your organization's reach and impact. We are confident that your participation will be both rewarding and fruitful. We eagerly anticipate your presence at this premier networking event.\n\n \n\nPlease click HERE to register at your earliest convenience to secure your spot at this exclusive event. Should you have any questions or require further information\, please contact Amy Whittaker at amy.whittaker@utah.edu or Denise DeCoite at denise.decoite@utah.edu.\n\n \n\nSincerely\,\n\n \n\nLeann Weibert\n\nUACE New Grad & Alumni Statewide Career Fair Committee Member
X-ALT-DESC;FMTTYPE=text/html:<div style="color: rgb(34\, 34\, 34)\; font-size: small\; font-weight: 700\; direction: ltr\; font-family: &quot\;Suisse Int'l&quot\;\, -apple-system\, BlinkMacSystemFont\, &quot\;Segoe UI&quot\;\, Roboto\, &quot\;Helvetica Neue&quot\;\, sans-serif\;"><span style="font-weight: normal\;">Dear Esteemed Employers\,</span></div>\n\n<div style="color: rgb(34\, 34\, 34)\; font-size: small\; font-weight: 700\; direction: ltr\; font-family: &quot\;Suisse Int'l&quot\;\, -apple-system\, BlinkMacSystemFont\, &quot\;Segoe UI&quot\;\, Roboto\, &quot\;Helvetica Neue&quot\;\, sans-serif\;">&nbsp\;</div>\n\n<div style="color: rgb(34\, 34\, 34)\; font-size: small\; font-weight: 700\; direction: ltr\; font-family: &quot\;Suisse Int'l&quot\;\, -apple-system\, BlinkMacSystemFont\, &quot\;Segoe UI&quot\;\, Roboto\, &quot\;Helvetica Neue&quot\;\, sans-serif\;"><span style="font-weight: normal\;">We are delighted to extend a warm invitation to you for the</span></div>\n\n<div style="color: rgb(34\, 34\, 34)\; font-size: small\; font-weight: 700\; direction: ltr\; font-family: &quot\;Suisse Int'l&quot\;\, -apple-system\, BlinkMacSystemFont\, &quot\;Segoe UI&quot\;\, Roboto\, &quot\;Helvetica Neue&quot\;\, sans-serif\;">New Grad &amp\;&nbsp\;Alumni&nbsp\;Statewide&nbsp\;Career&nbsp\;Fair<span style="font-weight: normal\;"><wbr />&nbsp\;on&nbsp\;</span>Wednesday\, May 14th\, from 3 pm to 6 pm<span style="font-weight: normal\;">&nbsp\;at the&nbsp\;</span>A. Ray Olpin Student Union<span style="font-weight: normal\;">&nbsp\;on the beautiful&nbsp\;</span>University of Utah campus<span style="font-weight: normal\;">.</span></div>\n\n<div style="color: rgb(34\, 34\, 34)\; font-size: small\; font-weight: 700\; direction: ltr\; font-family: &quot\;Suisse Int'l&quot\;\, -apple-system\, BlinkMacSystemFont\, &quot\;Segoe UI&quot\;\, Roboto\, &quot\;Helvetica Neue&quot\;\, sans-serif\;">&nbsp\;</div>\n\n<div style="color: rgb(34\, 34\, 34)\; font-size: small\; font-weight: 700\; direction: ltr\; font-family: &quot\;Suisse Int'l&quot\;\, -apple-system\, BlinkMacSystemFont\, &quot\;Segoe UI&quot\;\, Roboto\, &quot\;Helvetica Neue&quot\;\, sans-serif\;"><span style="font-weight: normal\;">This event\, hosted in collaboration with the&nbsp\;</span>Utah Association of Colleges and Employers (UACE)<span style="font-weight: normal\;">\, connects employers with new graduates and experienced alumni from:</span></div>\n\n<div style="color: rgb(34\, 34\, 34)\; font-size: small\; font-weight: 700\; direction: ltr\; font-family: &quot\;Suisse Int'l&quot\;\, -apple-system\, BlinkMacSystemFont\, &quot\;Segoe UI&quot\;\, Roboto\, &quot\;Helvetica Neue&quot\;\, sans-serif\;"><span style="font-weight: normal\;">University of Utah\, Brigham Young University\, Utah Valley University\, Utah State University\, Westminster University\, Salt Lake Community College\, Weber State University\, Southern Utah University\, Utah Tech\, Snow College\, and Ensign College.</span></div>\n\n<div style="color: rgb(34\, 34\, 34)\; font-size: small\; font-weight: 700\; direction: ltr\; font-family: &quot\;Suisse Int'l&quot\;\, -apple-system\, BlinkMacSystemFont\, &quot\;Segoe UI&quot\;\, Roboto\, &quot\;Helvetica Neue&quot\;\, sans-serif\;">&nbsp\;</div>\n\n<div style="color: rgb(34\, 34\, 34)\; font-size: small\; font-weight: 700\; direction: ltr\; font-family: &quot\;Suisse Int'l&quot\;\, -apple-system\, BlinkMacSystemFont\, &quot\;Segoe UI&quot\;\, Roboto\, &quot\;Helvetica Neue&quot\;\, sans-serif\;"><span style="font-weight: normal\;">Come and showcase your organization&#39\;s unique opportunities and engage with diverse talent actively seeking to contribute to Utah&#39\;s vibrant professional landscape. Whether you are looking to fill full-time positions or part-time roles\, this event offers a dynamic environment to meet and recruit outstanding candidates.&nbsp\;The registration rate for this event is $400 per employer. The Government and Non-Profit Agency rate is $200.&nbsp\;</span><i><u>Registration deadline is May 5\, 2025.</u></i></div>\n\n<div style="color: rgb(34\, 34\, 34)\; font-size: small\; font-weight: 700\; direction: ltr\; font-family: &quot\;Suisse Int'l&quot\;\, -apple-system\, BlinkMacSystemFont\, &quot\;Segoe UI&quot\;\, Roboto\, &quot\;Helvetica Neue&quot\;\, sans-serif\;">&nbsp\;</div>\n\n<div style="color: rgb(34\, 34\, 34)\; font-size: small\; font-weight: 700\; direction: ltr\; font-family: &quot\;Suisse Int'l&quot\;\, -apple-system\, BlinkMacSystemFont\, &quot\;Segoe UI&quot\;\, Roboto\, &quot\;Helvetica Neue&quot\;\, sans-serif\;">New this year\, we&rsquo\;re excited to introduce a Veterans Meet &amp\; Greet from 2:30 PM &ndash\; 3:00 PM\,&nbsp\;<span style="font-weight: normal\;">providing employers with a dedicated opportunity to connect with veteran graduates and experienced alumni. These professionals bring proven leadership\, diverse skill sets\, and a strong work ethic to the workforce\, making them valuable additions to any organization.</span></div>\n\n<div style="color: rgb(34\, 34\, 34)\; font-size: small\; font-weight: 700\; direction: ltr\; font-family: &quot\;Suisse Int'l&quot\;\, -apple-system\, BlinkMacSystemFont\, &quot\;Segoe UI&quot\;\, Roboto\, &quot\;Helvetica Neue&quot\;\, sans-serif\;">&nbsp\;</div>\n\n<div style="color: rgb(34\, 34\, 34)\; font-size: small\; font-weight: 700\; direction: ltr\; font-family: &quot\;Suisse Int'l&quot\;\, -apple-system\, BlinkMacSystemFont\, &quot\;Segoe UI&quot\;\, Roboto\, &quot\;Helvetica Neue&quot\;\, sans-serif\;"><span style="font-weight: normal\;">Join us in this exciting endeavor to shape the future workforce of Utah while expanding your organization&#39\;s reach and impact. We are confident that your participation will be both rewarding and fruitful. We eagerly anticipate your presence at this premier networking event.</span></div>\n\n<div style="color: rgb(34\, 34\, 34)\; font-size: small\; font-weight: 700\; direction: ltr\; font-family: &quot\;Suisse Int'l&quot\;\, -apple-system\, BlinkMacSystemFont\, &quot\;Segoe UI&quot\;\, Roboto\, &quot\;Helvetica Neue&quot\;\, sans-serif\;">&nbsp\;</div>\n\n<div style="color: rgb(34\, 34\, 34)\; font-size: small\; font-weight: 700\; direction: ltr\; font-family: &quot\;Suisse Int'l&quot\;\, -apple-system\, BlinkMacSystemFont\, &quot\;Segoe UI&quot\;\, Roboto\, &quot\;Helvetica Neue&quot\;\, sans-serif\;"><span style="font-weight: normal\;">Please click&nbsp\;</span><span style="color: rgb(0\, 53\, 128)\;"><a data-saferedirecturl="https://www.google.com/url?q=https://email.mail.joinhandshake.com/c/eJw8j0Gu3CAMQE8Dm2oigikkCxZVo7lADxA54EzoT2BETHP96k-nf_ss2-9FPwxhGST53hlwCgYHcvOjsU6Z1Wo70mrAOrCjHZdxUNoFDFZumOO54QfNB57nTAemfU7R987qQSuZvFb6uzIK-qHve-jGOAIZdOvoBr0YLYz63Ol-l5S_jnWhHHL3G_PzFPBD6LvQ9-u6uoaBulIfQt9PRqYrRbrh3o6cbiumKuC-lypgUkLbxsd8llYDCZheep-fqL5HB8XUDgHTS_oNQ8lMmQVM74L_HI8npkcWMLWcZsb6IKb4L_iUz1piCzwvLXwQ-59Yieq3QJmpyup3wpy7i9JClYVRjXFjCltHsUn2oPvbr7CVsss_Xv8NAAD__0JLgSM&amp\;source=gmail&amp\;ust=1745953132892000&amp\;usg=AOvVaw1fCSOhqQekIHaidhFhr0sX" href="https://email.mail.joinhandshake.com/c/eJw8j0Gu3CAMQE8Dm2oigikkCxZVo7lADxA54EzoT2BETHP96k-nf_ss2-9FPwxhGST53hlwCgYHcvOjsU6Z1Wo70mrAOrCjHZdxUNoFDFZumOO54QfNB57nTAemfU7R987qQSuZvFb6uzIK-qHve-jGOAIZdOvoBr0YLYz63Ol-l5S_jnWhHHL3G_PzFPBD6LvQ9-u6uoaBulIfQt9PRqYrRbrh3o6cbiumKuC-lypgUkLbxsd8llYDCZheep-fqL5HB8XUDgHTS_oNQ8lMmQVM74L_HI8npkcWMLWcZsb6IKb4L_iUz1piCzwvLXwQ-59Yieq3QJmpyup3wpy7i9JClYVRjXFjCltHsUn2oPvbr7CVsss_Xv8NAAD__0JLgSM" id="m_-280676094852094149m_-3778920438755253567m_6236002043539735273OWA25adf7b7-c998-a412-fc62-2bbb9cd5d319" style="color: rgb(0\, 53\, 128)\;" target="_blank">HERE</a></span><span style="font-weight: normal\;">&nbsp\;to register at your earliest convenience to secure your spot at this exclusive event. Should you have any questions or require further information\, please contact Amy Whittaker at&nbsp\;</span><span style="color: rgb(0\, 53\, 128)\; font-weight: normal\;"><a href="mailto:amy.whittaker@utah.edu" id="m_-280676094852094149m_-3778920438755253567m_6236002043539735273OWA4c91a11a-fe58-9c32-bfb6-c1eba493619c" style="color: rgb(0\, 53\, 128)\;" target="_blank">amy.whittaker@utah.edu</a></span><span style="font-weight: normal\;">&nbsp\;or Denise DeCoite at&nbsp\;</span><span style="color: rgb(0\, 53\, 128)\; font-weight: normal\;"><a href="mailto:denise.decoite@utah.edu" id="m_-280676094852094149m_-3778920438755253567m_6236002043539735273OWA7112b464-ad57-4830-6a2c-c07eeb844553" style="color: rgb(0\, 53\, 128)\;" target="_blank">denise.decoite@utah.edu</a></span><span style="font-weight: normal\;">.</span></div>\n\n<div style="color: rgb(34\, 34\, 34)\; font-size: small\; font-weight: 700\; direction: ltr\; font-family: &quot\;Suisse Int'l&quot\;\, -apple-system\, BlinkMacSystemFont\, &quot\;Segoe UI&quot\;\, Roboto\, &quot\;Helvetica Neue&quot\;\, sans-serif\;">&nbsp\;</div>\n\n<div style="color: rgb(34\, 34\, 34)\; font-size: small\; font-weight: 700\; direction: ltr\; font-family: &quot\;Suisse Int'l&quot\;\, -apple-system\, BlinkMacSystemFont\, &quot\;Segoe UI&quot\;\, Roboto\, &quot\;Helvetica Neue&quot\;\, sans-serif\;"><span style="font-weight: normal\;">Sincerely\,</span></div>\n\n<div style="color: rgb(34\, 34\, 34)\; font-size: small\; font-weight: 700\; direction: ltr\; font-family: &quot\;Suisse Int'l&quot\;\, -apple-system\, BlinkMacSystemFont\, &quot\;Segoe UI&quot\;\, Roboto\, &quot\;Helvetica Neue&quot\;\, sans-serif\;">&nbsp\;</div>\n\n<div style="color: rgb(34\, 34\, 34)\; font-size: small\; font-weight: 700\; direction: ltr\; font-family: &quot\;Suisse Int'l&quot\;\, -apple-system\, BlinkMacSystemFont\, &quot\;Segoe UI&quot\;\, Roboto\, &quot\;Helvetica Neue&quot\;\, sans-serif\;"><span style="font-weight: normal\;">Leann Weibert</span></div>\n\n<div style="color: rgb(34\, 34\, 34)\; font-size: small\; font-weight: 700\; direction: ltr\; font-family: &quot\;Suisse Int'l&quot\;\, -apple-system\, BlinkMacSystemFont\, &quot\;Segoe UI&quot\;\, Roboto\, &quot\;Helvetica Neue&quot\;\, sans-serif\;"><span style="font-weight: normal\;">UACE New Grad &amp\;&nbsp\;Alumni&nbsp\;Statewide&nbsp\;Career&nbsp\;<wbr />Fair&nbsp\;Committee Member</span></div>\n
LOCATION:
UID:e.1117.18112
SEQUENCE:3
DTSTAMP:20260421T095854Z
URL:https://business.stgeorgechamber.com/events/details/new-grad-alumni-statewide-career-fair-18112
END:VEVENT

END:VCALENDAR
