BEGIN:VCALENDAR
VERSION:2.0
PRODID:-//ChamberMaster//Event Calendar 2.0//EN
METHOD:PUBLISH
X-PUBLISHED-TTL:P3D
REFRESH-INTERVAL:P3D
CALSCALE:GREGORIAN
BEGIN:VEVENT
DTSTART:20160326T160000Z
DTEND:20160326T210000Z
X-MICROSOFT-CDO-ALLDAYEVENT:FALSE
SUMMARY:Navajo Rugs-Weaving\, Culture\, Mythology
DESCRIPTION:America has it's roots in the arts of it's Natives. Navajo weaving is one of the finest examples of Native American art. Still produced on traditional upright looms\, these textiles evoke the soul of the Southwest. Join us as we introduce you to this unique American experience!\n\nPlease Register\,there are two lectures to choose from: https://form.jotform.com/60647435424961\n\nTo Register: https://form.jotform.com/60647435424961 \n\n\n\nAbout John Rich Jr. Presenter- Jacob Lake Inn http://www.jacoblake.com/native-american-art/gifts-of-spiderwoman/
X-ALT-DESC;FMTTYPE=text/html:America has it&#39\;s roots in the arts of it&#39\;s Natives. Navajo weaving is one of the finest examples of Native American art. Still produced on traditional upright looms\, these textiles evoke the soul of the Southwest. Join us as we introduce you to this unique American experience!<br />\nPlease Register\,there are two lectures to choose from: https://form.jotform.com/60647435424961<br />\n<span style="line-height: 20.8px\;">To Register: https://form.jotform.com/60647435424961&nbsp\;</span><br />\n<br />\nAbout&nbsp\;John Rich Jr. Presenter- Jacob Lake Inn http://www.jacoblake.com/native-american-art/gifts-of-spiderwoman/
LOCATION:Silver Reef Museum/Ghost Town 1903 Wells Fargo Rd. Leeds\, UT 84746
UID:e.1117.8504
SEQUENCE:3
DTSTAMP:20260419T220347Z
URL:https://business.stgeorgechamber.com/events/details/navajo-rugs-weaving-culture-mythology-03-26-2016-8504
END:VEVENT

END:VCALENDAR
