BEGIN:VCALENDAR
VERSION:2.0
PRODID:-//ChamberMaster//Event Calendar 2.0//EN
METHOD:PUBLISH
X-PUBLISHED-TTL:P3D
REFRESH-INTERVAL:P3D
CALSCALE:GREGORIAN
BEGIN:VEVENT
DTSTART;VALUE=DATE:20140207
DTEND;VALUE=DATE:20140208
TRANSP:TRANSPARENT
X-MICROSOFT-CDO-ALLDAYEVENT:TRUE
SUMMARY:National Wear Red Day
DESCRIPTION:National Wear Red Day  ? the first Friday each February ? is our special day to bring attention to this silent killer of women. We encourage everyone to wear red\, raise their voices\, know their cardiovascular risk and take action to live longer\, healthier lives. Heart disease kills more women than all forms of cancer combined. Wear Red. Raise Your Voice. Go Red on National Wear Red Day
X-ALT-DESC;FMTTYPE=text/html:National Wear Red Day&reg\; ? the first Friday each February ? is our special day to bring attention to this silent killer of women. We encourage everyone to wear red\, raise their voices\, know their cardiovascular risk and take action to live longer\, healthier lives.&nbsp\;Heart disease kills more women than all forms of cancer combined. Wear Red. Raise Your Voice. Go Red on National Wear Red Day&reg\;
LOCATION:
UID:e.1117.5049
SEQUENCE:3
DTSTAMP:20260421T142559Z
URL:https://business.stgeorgechamber.com/events/details/national-wear-red-day-02-07-2014-5049
END:VEVENT

END:VCALENDAR
