BEGIN:VCALENDAR
VERSION:2.0
PRODID:-//ChamberMaster//Event Calendar 2.0//EN
METHOD:PUBLISH
X-PUBLISHED-TTL:P3D
REFRESH-INTERVAL:P3D
CALSCALE:GREGORIAN
BEGIN:VEVENT
DTSTART;VALUE=DATE:20140201
DTEND;VALUE=DATE:20140202
TRANSP:TRANSPARENT
X-MICROSOFT-CDO-ALLDAYEVENT:TRUE
SUMMARY:National Freedom Day
DESCRIPTION:National Freedom Day is a United States observance on February 1 honoring the signing by Abraham Lincoln of a joint House & Senate resolution that later became the 13th Amendment to the U.S. Constitution. President Lincoln signed the Amendment outlawing slavery on February 1\, 1865\, although it was not ratified by the states until later.
X-ALT-DESC;FMTTYPE=text/html:National Freedom Day is a United States observance on February 1 honoring the signing by Abraham Lincoln of a joint House &amp\; Senate resolution that later became the 13th Amendment to the U.S. Constitution. President Lincoln signed the Amendment outlawing slavery on February 1\, 1865\, although it was not ratified by the states until later.
LOCATION:
UID:e.1117.5045
SEQUENCE:3
DTSTAMP:20260421T154131Z
URL:https://business.stgeorgechamber.com/events/details/national-freedom-day-02-01-2014-5045
END:VEVENT

END:VCALENDAR
