BEGIN:VCALENDAR
VERSION:2.0
PRODID:-//ChamberMaster//Event Calendar 2.0//EN
METHOD:PUBLISH
X-PUBLISHED-TTL:P3D
REFRESH-INTERVAL:P3D
CALSCALE:GREGORIAN
BEGIN:VEVENT
DTSTART:20140727T020000Z
DTEND:20140727T040000Z
X-MICROSOFT-CDO-ALLDAYEVENT:FALSE
SUMMARY:National Dance Day Celebration
DESCRIPTION:Join the dance party and come celebrate the vibrant and colorful dance culture found in our community.  The Keil Krew Movement and local Zumba fitness instructors will be leading you in the family fun!  All ages and abilities are welcome!
X-ALT-DESC;FMTTYPE=text/html:Join the dance party and come celebrate the vibrant and colorful dance culture found in our community. &nbsp\;The Keil Krew Movement and local Zumba fitness instructors will be leading you in the family fun! &nbsp\;All ages and abilities are welcome!
LOCATION:Health & Performance Center parking lot 652 S. Medical Center Drive St. George
UID:e.1117.5895
SEQUENCE:3
DTSTAMP:20260421T070156Z
URL:https://business.stgeorgechamber.com/events/details/national-dance-day-celebration-07-26-2014-5895
END:VEVENT

END:VCALENDAR
