BEGIN:VCALENDAR
VERSION:2.0
PRODID:-//ChamberMaster//Event Calendar 2.0//EN
METHOD:PUBLISH
X-PUBLISHED-TTL:P3D
REFRESH-INTERVAL:P3D
CALSCALE:GREGORIAN
BEGIN:VEVENT
DTSTART;VALUE=DATE:20151109
DTEND;VALUE=DATE:20151110
TRANSP:TRANSPARENT
X-MICROSOFT-CDO-ALLDAYEVENT:TRUE
SUMMARY:Mystery Escape Room Opening Day
DESCRIPTION:
X-ALT-DESC;FMTTYPE=text/html:
LOCATION:46 W St. George Blvd
UID:e.1117.7287
SEQUENCE:3
DTSTAMP:20260420T051308Z
URL:https://business.stgeorgechamber.com/events/details/mystery-escape-room-opening-day-11-09-2015-7287
END:VEVENT

END:VCALENDAR
