BEGIN:VCALENDAR
VERSION:2.0
PRODID:-//ChamberMaster//Event Calendar 2.0//EN
METHOD:PUBLISH
X-PUBLISHED-TTL:P3D
REFRESH-INTERVAL:P3D
CALSCALE:GREGORIAN
BEGIN:VEVENT
DTSTART:20140308T180000Z
DTEND:20140308T230000Z
X-MICROSOFT-CDO-ALLDAYEVENT:FALSE
SUMMARY:My Family Chiro Open House
DESCRIPTION:Come and join us at My Family Chiro for an open house!  Drop in\, have a snack and enter to win chiropractic adjustments for 1 YEAR!!
X-ALT-DESC;FMTTYPE=text/html:<span style="color:#000000\;"><span style="font-size:14px\;"><span style="font-family:arial\;">Come and join us at My Family Chiro for an open house! &nbsp\;Drop in\, have a snack and enter to win chiropractic adjustments for 1 YEAR!!</span></span></span>
LOCATION:446 South Mall Drive Suite B-5 Saint George\, UT 84790
UID:e.1117.5107
SEQUENCE:3
DTSTAMP:20260421T125959Z
URL:https://business.stgeorgechamber.com/events/details/my-family-chiro-open-house-03-08-2014-5107
END:VEVENT

END:VCALENDAR
