BEGIN:VCALENDAR
VERSION:2.0
PRODID:-//ChamberMaster//Event Calendar 2.0//EN
METHOD:PUBLISH
X-PUBLISHED-TTL:P3D
REFRESH-INTERVAL:P3D
CALSCALE:GREGORIAN
BEGIN:VEVENT
DTSTART:20131123T170000Z
DTEND:20131123T190000Z
X-MICROSOFT-CDO-ALLDAYEVENT:FALSE
SUMMARY:Mustache Dash for Big Brothers Big Sisters of UT
DESCRIPTION:All proceeds benefit the So. Chapter of Big Brothers Big Sisters of Utah. Each participant receives a mustache and is encouraged to wear mustache-themed clothing. Plan to bring your family to this fun filled event with more activities at the finish. Look for celebrity mustaches to be joining in the fun.\n\n	Participants will dash down and back the Virgin River Trail for a total distance of 3 miles. Strollers and young children welcome.
X-ALT-DESC;FMTTYPE=text/html:<p style="margin: 0px\; padding: 0px 0px 18px\; outline: 0px\; vertical-align: baseline\; color: rgb(51\, 51\, 51)\; font-family: Verdana\, Arial\, Helvetica\, sans-serif\; line-height: 18px\;">\n	All proceeds benefit the So. Chapter of Big Brothers Big Sisters of Utah. Each participant receives a mustache and is encouraged to wear mustache-themed clothing. Plan to bring your family to this fun filled event with more activities at the finish. Look for celebrity mustaches to be joining in the fun.</p>\n<p style="margin: 0px\; padding: 0px 0px 18px\; outline: 0px\; vertical-align: baseline\; color: rgb(51\, 51\, 51)\; font-family: Verdana\, Arial\, Helvetica\, sans-serif\; line-height: 18px\;">\n	Participants will dash down and back the Virgin River Trail for a total distance of 3 miles. Strollers and young children welcome.</p>\n
LOCATION:Crosby Confluence Park 1850 S. Convention Center Dr.
UID:e.1117.4954
SEQUENCE:3
DTSTAMP:20260421T200835Z
URL:https://business.stgeorgechamber.com/events/details/mustache-dash-for-big-brothers-big-sisters-of-ut-11-23-2013-4954
END:VEVENT

END:VCALENDAR
