BEGIN:VCALENDAR
VERSION:2.0
PRODID:-//ChamberMaster//Event Calendar 2.0//EN
METHOD:PUBLISH
X-PUBLISHED-TTL:P3D
REFRESH-INTERVAL:P3D
CALSCALE:GREGORIAN
BEGIN:VEVENT
DTSTART:20160721T190000Z
DTEND:20160722T040000Z
X-MICROSOFT-CDO-ALLDAYEVENT:FALSE
SUMMARY:"Much Ado About Business" A Summer Retreat
DESCRIPTION:The St. George Chamber of Commerce invites you to a Summer Retreat designed to get you excited\, connected and prepared for the second half of the year!\n\nFeaturing:\n\n*Nationally Renowned Keynote Speakers including:  Carine Clark\, President and CEO of MartizCX and the 2015 CEO of the Year by Utah Business Magazine\; Greg Powell\, founding partner of Meridian Consulting Group and Director of the SUU Business Development Center\; and Fred Adams\, Founder and Executive Producer Emeritus of the Utah Shakespeare Festival.  \n\n*Breakout Sessions with information from:  World Trade Center Utah\, Small Business Development Center\, USTAR\, Workforce Services\, Southwest Utah Public Health Department\, Dixie Applied Technology College\, Southwest Applied Technology College and more!\n\n*Networking with business owners from Utah and Nevada\n\n*Tickets to "Much Ado About Nothing" at the Utah Shakespeare Festival\n\n*Exclusive backstage tour of the new Engelstead Theater\n\n*Dinner with Festival Founder Fred Adams
X-ALT-DESC;FMTTYPE=text/html:<p><span style="color:#000000\;"><span style="font-size:14px\;"><span style="font-family:arial\;">The St. George Chamber of Commerce invites you to a Summer Retreat designed to get you excited\, connected and prepared for the second half of the year!<br />\nFeaturing:</span></span></span></p>\n\n<p><span style="color:#000000\;"><span style="font-size:14px\;"><span style="font-family:arial\;">*Nationally Renowned Keynote Speakers&nbsp\;including:&nbsp\; Carine Clark\, President and CEO of MartizCX and the 2015 CEO of the Year by Utah Business Magazine\; Greg Powell\, founding partner of Meridian Consulting Group and Director of the SUU Business Development Center\; and Fred Adams\,&nbsp\;Founder and Executive Producer Emeritus of the Utah Shakespeare Festival. &nbsp\;</span></span></span></p>\n\n<p><span style="color:#000000\;"><span style="font-size:14px\;"><span style="font-family:arial\;">*Breakout Sessions with information from: &nbsp\;World Trade Center Utah\, Small Business Development Center\, USTAR\, Workforce Services\, Southwest Utah Public Health Department\, Dixie Applied Technology College\, Southwest Applied Technology College and more!<br />\n*Networking with business owners from Utah and Nevada<br />\n*Tickets to &quot\;Much Ado About Nothing&quot\; at the Utah Shakespeare Festival<br />\n*Exclusive backstage tour of the new Engelstead Theater<br />\n*Dinner with Festival Founder Fred Adams</span></span></span></p>\n
LOCATION:Southern Utah University Cedar City\, Utah
UID:e.1117.8982
SEQUENCE:3
DTSTAMP:20260419T165329Z
URL:https://business.stgeorgechamber.com/events/details/much-ado-about-business-a-summer-retreat-07-21-2016-8982
END:VEVENT

END:VCALENDAR
