BEGIN:VCALENDAR
VERSION:2.0
PRODID:-//ChamberMaster//Event Calendar 2.0//EN
METHOD:PUBLISH
X-PUBLISHED-TTL:P3D
REFRESH-INTERVAL:P3D
CALSCALE:GREGORIAN
BEGIN:VEVENT
DTSTART:20141021T173000Z
DTEND:20141021T190000Z
X-MICROSOFT-CDO-ALLDAYEVENT:FALSE
SUMMARY:MountainWest Capital Network 2014 Utah 100 Awards
DESCRIPTION:MountainWest Capital Network is Utah's first and largest business networking organization devoted to supporting entrepreneurial success\, and dedicated to the flow of financial\, entrepreneurial and intellectual capital.
X-ALT-DESC;FMTTYPE=text/html:MountainWest Capital Network is Utah&#39\;s first and largest business networking organization devoted to supporting entrepreneurial success\, and dedicated to the flow of financial\, entrepreneurial and intellectual capital.
LOCATION:Grand America Hotel 555 S Main St. Salt Lake City
UID:e.1117.6102
SEQUENCE:3
DTSTAMP:20260421T043015Z
URL:https://business.stgeorgechamber.com/events/details/mountainwest-capital-network-2014-utah-100-awards-10-21-2014-6102
END:VEVENT

END:VCALENDAR
