BEGIN:VCALENDAR
VERSION:2.0
PRODID:-//ChamberMaster//Event Calendar 2.0//EN
METHOD:PUBLISH
X-PUBLISHED-TTL:P3D
REFRESH-INTERVAL:P3D
CALSCALE:GREGORIAN
BEGIN:VEVENT
DTSTART:20150626T160000Z
DTEND:20150626T163000Z
X-MICROSOFT-CDO-ALLDAYEVENT:FALSE
SUMMARY:Mountainland Kitchen & Bath Studio Opens In Boulevard Home Furnishings
DESCRIPTION:Join Us For Our Ribbon Cutting & Open House\n\n\n\nYou're invited to an exclusive Ribbon Cutting Ceremony with the Chamber of Commerce to welcome Mountainland Kitchen & Bath Studio to St. George at the Boulevard Home Furnishings store on Friday\, June 26th starting at 10am. Plus! Please join us for our Open House the next day\, Saturday\, June 27th from 12pm to 3pm. We will be serving FREE Hot Dogs and Drinks and doing raffle drawings for fabulous products and prizes. Meet the showroom experts from Mountainland Kitchen & Bath Studio. See\, touch and feel plumbing fixtures from brands like American Standard\, Delta\, Moen\, Gerber\, Grohe\, Graff\, Native Trails\, Pfister\, Elkay\, Aquatic\, Toto\, and more. \n\n\n\n390 North Mall Drive   St. George -  Ask for Caroline Schaerrer at 435-628-8002.\n\nLook for the Mountainland Canopy at the Contractor Entrance on the Southwest Side of Boulevard
X-ALT-DESC;FMTTYPE=text/html:<span style="font-size:18px\;"><strong>Join Us For Our Ribbon Cutting &amp\; Open House</strong></span><br />\n<br />\nYou&rsquo\;re invited to an exclusive Ribbon Cutting Ceremony with the Chamber of Commerce to&nbsp\;welcome Mountainland Kitchen &amp\; Bath Studio to St. George at the Boulevard Home&nbsp\;Furnishings store on Friday\, June 26th starting at 10am. Plus! Please join us for our&nbsp\;Open House the next day\, Saturday\, June 27th from 12pm to 3pm. We will be serving&nbsp\;FREE Hot Dogs and Drinks and doing raffle drawings for fabulous products and&nbsp\;prizes. Meet the showroom experts from Mountainland Kitchen &amp\; Bath Studio. See\, touch&nbsp\;and feel plumbing fixtures from brands like American Standard\, Delta\, Moen\, Gerber\,&nbsp\;Grohe\, Graff\, Native Trails\, Pfister\, Elkay\, Aquatic\, Toto\, and more.&nbsp\;<br />\n<br />\n<strong>390 North Mall Drive &middot\; St. George -&nbsp\; Ask for Caroline Schaerrer at 435-628-8002.<br />\nLook for the Mountainland Canopy at the Contractor Entrance on the Southwest Side of Boulevard</strong>
LOCATION:390 North Mall Drive at Boulevard Home Furnishings
UID:e.1117.6483
SEQUENCE:3
DTSTAMP:20260420T133709Z
URL:https://business.stgeorgechamber.com/events/details/mountainland-kitchen-bath-studio-opens-in-boulevard-home-furnishings-06-26-2015-6483
END:VEVENT

END:VCALENDAR
