BEGIN:VCALENDAR
VERSION:2.0
PRODID:-//ChamberMaster//Event Calendar 2.0//EN
METHOD:PUBLISH
X-PUBLISHED-TTL:P3D
REFRESH-INTERVAL:P3D
CALSCALE:GREGORIAN
BEGIN:VEVENT
DTSTART:20130714T020000Z
DTEND:20130714T040000Z
X-MICROSOFT-CDO-ALLDAYEVENT:FALSE
SUMMARY:Most Wanted in Concert
DESCRIPTION:Country\, disco\, classic rock and everything in between. Michale Griffin\, guitars\, Phil Moore\, bass\, Leslie Adams\, fiddle\; and Derrek Adams percussion - experience\, talent and fun combine for a concert not to miss \n\n\n\nToby Keith\, Fleetwood Mac\, Gary Allen\, Eric Clapton and 3 Doors Down all on one stage? Could be a tight fit. But not for local cover band Most Wanted. They'll squeeze in hits from each of these artists and many more when they appear on the Summer Concert Series at the Tanner Amphitheater. "We pride ourselves on being as versatile as possible\," said Derrek Adams of the group's play list. It's usually about half country and half rock. And depending on the audience\, they sometimes mix in a little jazz\, a little disco and some oldies -- anything that makes people want to get up and move. If it's not danceable\, it doesn't belong on our set list\," Adams said. \n\n\n\nAs a cover band\, Most Wanted doesn't perform any of their own music -- a style they've been criticized for by other members of the industry. But for Adams\, music is a business like anything else and you have to do what the public likes\, can dance do and hum to. Cranking out tunes at clubs\, bars and other venues in Nevada\, Arizona and Utah\, the four members of Most Wanted are booked pretty tight -- traveling most weekends and holding down day jobs in their spare time. \n\n\n\n"I'm going all the time\," said bass player Phil Moore. As a science teacher at Hurricane High School\, Moore tries to balance his musical interests with teaching. Although it can be a little rough\, he prefers it that way. "I like having both. They're opposite things so I don't get tired of one thing\," he said. "I don't think I'd like playing music full time."
X-ALT-DESC;FMTTYPE=text/html:<span style="color: rgb(0\, 0\, 0)\; font-family: Verdana\, Arial\, Helvetica\, sans-serif\; line-height: 18px\;">Country\, disco\, classic rock and everything in between. Michale Griffin\, guitars\, Phil Moore\, bass\, Leslie Adams\, fiddle\; and Derrek Adams percussion - experience\, talent and fun combine for a concert not to miss&nbsp\;</span><br style="color: rgb(0\, 0\, 0)\; font-family: Verdana\, Arial\, Helvetica\, sans-serif\; line-height: 18px\;" />\n<br style="color: rgb(0\, 0\, 0)\; font-family: Verdana\, Arial\, Helvetica\, sans-serif\; line-height: 18px\;" />\n<span style="color: rgb(0\, 0\, 0)\; font-family: Verdana\, Arial\, Helvetica\, sans-serif\; line-height: 18px\;">Toby Keith\, Fleetwood Mac\, Gary Allen\, Eric Clapton and 3 Doors Down all on one stage? Could be a tight fit. But not for local cover band Most Wanted. They&#39\;ll squeeze in hits from each of these artists and many more when they appear on the Summer Concert Series at the Tanner Amphitheater. &quot\;We pride ourselves on being as versatile as possible\,&quot\; said Derrek Adams of the group&#39\;s play list. It&#39\;s usually about half country and half rock. And depending on the audience\, they sometimes mix in a little jazz\, a little disco and some oldies -- anything that makes people want to get up and move. If it&#39\;s not danceable\, it doesn&#39\;t belong on our set list\,&quot\; Adams said.&nbsp\;</span><br style="color: rgb(0\, 0\, 0)\; font-family: Verdana\, Arial\, Helvetica\, sans-serif\; line-height: 18px\;" />\n<br style="color: rgb(0\, 0\, 0)\; font-family: Verdana\, Arial\, Helvetica\, sans-serif\; line-height: 18px\;" />\n<span style="color: rgb(0\, 0\, 0)\; font-family: Verdana\, Arial\, Helvetica\, sans-serif\; line-height: 18px\;">As a cover band\, Most Wanted doesn&#39\;t perform any of their own music -- a style they&#39\;ve been criticized for by other members of the industry. But for Adams\, music is a business like anything else and you have to do what the public likes\, can dance do and hum to. Cranking out tunes at clubs\, bars and other venues in Nevada\, Arizona and Utah\, the four members of Most Wanted are booked pretty tight -- traveling most weekends and holding down day jobs in their spare time.&nbsp\;</span><br style="color: rgb(0\, 0\, 0)\; font-family: Verdana\, Arial\, Helvetica\, sans-serif\; line-height: 18px\;" />\n<br style="color: rgb(0\, 0\, 0)\; font-family: Verdana\, Arial\, Helvetica\, sans-serif\; line-height: 18px\;" />\n<span style="color: rgb(0\, 0\, 0)\; font-family: Verdana\, Arial\, Helvetica\, sans-serif\; line-height: 18px\;">&quot\;I&#39\;m going all the time\,&quot\; said bass player Phil Moore. As a science teacher at Hurricane High School\, Moore tries to balance his musical interests with teaching. Although it can be a little rough\, he prefers it that way. &quot\;I like having both. They&#39\;re opposite things so I don&#39\;t get tired of one thing\,&quot\; he said. &quot\;I don&#39\;t think I&#39\;d like playing music full time.&quot\;&nbsp\;</span><br style="color: rgb(0\, 0\, 0)\; font-family: Verdana\, Arial\, Helvetica\, sans-serif\; line-height: 18px\;" />\n
LOCATION:Tanner Amphitheater (one mile before the South entrance to Zion National Park) 350 Lion Blvd. Springdale\, UT
UID:e.1117.2970
SEQUENCE:3
DTSTAMP:20260422T011510Z
URL:https://business.stgeorgechamber.com/events/details/most-wanted-in-concert-07-13-2013-2970
END:VEVENT

END:VCALENDAR
