BEGIN:VCALENDAR
VERSION:2.0
PRODID:-//ChamberMaster//Event Calendar 2.0//EN
METHOD:PUBLISH
X-PUBLISHED-TTL:P3D
REFRESH-INTERVAL:P3D
CALSCALE:GREGORIAN
BEGIN:VEVENT
DTSTART:20160127T190000Z
DTEND:20160128T020000Z
X-MICROSOFT-CDO-ALLDAYEVENT:FALSE
SUMMARY:Morris Murdock Travel Show
DESCRIPTION:Morris Murdock Travel will be holding its 6th Annual Travel Expo on Wednesday January 27.  Over 45 travel companies from around the world will be at the Travel Expo with brochures\, travel seminars\, information and special offers.  In conjunction with our Morris Murdock Travel Salt Lake Travel Expo we will be giving away 20 Grand Prizes including  7 cruises\, Tahiti Trip\, Ireland Trip and many more.  The very popular\, fun and entertaining On Stage Alaska program will be presented at 1:00 and 3:00 PM don't miss it if you are interested in Alaska.  All the top cruise lines\, river cruise companies\, tour companies and vacation package companies will be at the Morris Murdock Travel Expo.  Enjoy learning about traveling to destinations around the world.  Sponsored by Cherry Creek Radio and KDXU Newstalk 890.
X-ALT-DESC;FMTTYPE=text/html:<span style="font-family: arial\;"><span style="font-size: 14px\;">Morris Murdock Travel will be holding its 6</span><sup style="font-size: 14px\;">th</sup><span style="font-size: 14px\;"> Annual Travel Expo on Wednesday January 27</span><span style="font-size: 11.6667px\; line-height: 18.6667px\;">. &nbsp\;</span><span style="font-size: 14px\;">Over 45 travel companies from around the world will be at the Travel Expo with brochures\, travel seminars\, information and special offers.&nbsp\; In conjunction with our Morris Murdock Travel Salt Lake Travel Expo we will be giving away 20 Grand Prizes including &nbsp\;7 cruises\, Tahiti Trip\, Ireland Trip and many more.&nbsp\; The very popular\, fun and entertaining On Stage Alaska program will be presented at 1:00 and 3:00 PM&mdash\;don&rsquo\;t miss it if you are interested in Alaska.&nbsp\; All the top cruise lines\, river cruise companies\, tour companies and vacation package companies will be at the Morris Murdock Travel Expo.&nbsp\; Enjoy learning about traveling to destinations around the world.&nbsp\; Sponsored by Cherry Creek Radio and </span>KDXU Newstalk<span style="font-size: 14px\;"> 890.</span></span>
LOCATION:Dixie Convention Center 1835 Convention Center Drive St. George
UID:e.1117.7402
SEQUENCE:3
DTSTAMP:20260420T012922Z
URL:https://business.stgeorgechamber.com/events/details/morris-murdock-travel-show-01-27-2016-7402
END:VEVENT

END:VCALENDAR
