BEGIN:VCALENDAR
VERSION:2.0
PRODID:-//ChamberMaster//Event Calendar 2.0//EN
METHOD:PUBLISH
X-PUBLISHED-TTL:P3D
REFRESH-INTERVAL:P3D
CALSCALE:GREGORIAN
BEGIN:VEVENT
DTSTART:20140122T190000Z
DTEND:20140123T020000Z
X-MICROSOFT-CDO-ALLDAYEVENT:FALSE
SUMMARY:Morris Murdock Travel Show
DESCRIPTION:Representatives from nearly 30 travel vendors including airlines\, cruise lines\, hotels\, resorts\, tourism offices and other related destination services will bring you up to date on the hottest travel trends. That's some of the biggest names in the travel industry that are offering you exclusive deals that can't be found anywhere else. \n\n\n\nAnd we have more. We're going to have free travel seminars given by experts in some of the world's hottest destinations. Just sit back and relax as they share hints\, tips\, and trends about the places you want to visit. \n\n\n\nAnd there's more. We'll have our award-winning travel consultants on hand to help book your next dream vacation. These consultants are world-travelers themselves and can help answer those pre-vacation questions for you!
X-ALT-DESC;FMTTYPE=text/html:<span style="font-size:14px\;"><span style="font-family:arial\;">Representatives from nearly 30 travel vendors including airlines\, cruise lines\, hotels\, resorts\, tourism offices and other related destination services will bring you up to date on the hottest travel trends. That&#39\;s some of the biggest names in the travel industry that are offering you exclusive deals that can&#39\;t be found anywhere else.&nbsp\;<br />\n<br />\nAnd we have more. We&#39\;re going to have free travel seminars given by experts in some of the world&#39\;s hottest destinations. Just sit back and relax as they share hints\, tips\, and trends about the places you want to visit.&nbsp\;<br />\n<br />\nAnd there&#39\;s more. We&#39\;ll have our award-winning travel consultants on hand to help book your next dream vacation. These consultants are world-travelers themselves and can help answer those pre-vacation questions for you!</span></span><br />\n
LOCATION:Dixie Convention Center 1835 Convention Center Drive St. George
UID:e.1117.5015
SEQUENCE:3
DTSTAMP:20260421T154258Z
URL:https://business.stgeorgechamber.com/events/details/morris-murdock-travel-show-01-22-2014-5015
END:VEVENT

END:VCALENDAR
