BEGIN:VCALENDAR
VERSION:2.0
PRODID:-//ChamberMaster//Event Calendar 2.0//EN
METHOD:PUBLISH
X-PUBLISHED-TTL:P3D
REFRESH-INTERVAL:P3D
CALSCALE:GREGORIAN
BEGIN:VEVENT
DTSTART:20150310T013000Z
DTEND:20150310T030000Z
X-MICROSOFT-CDO-ALLDAYEVENT:FALSE
SUMMARY:Moonlight and Magnolias
DESCRIPTION:Legendary Hollywood producer David O. Selznick has a problem. He has just fired the director of Gone with the Wind and the script is on its umpteenth version. He desperately needs a new director and writer immediately. However\, the writer he wants\, Ben Hecht\, has never read the novel. Selznick gives him a brief synopsis of the story and offers him $15\,000 to write a revised screenplay by the end of the week.\n\nSelznick also calls in director Victor Fleming\, pulling him from finishing The Wizard of Oz to be the new director of Gone with the Wind. Hecht is still not sold on the success of the storyline\, but Selznick believes in this movie\, so much so that he locks the three of them in his office for five days\, with bananas and peanuts as their only food\, to pull together a new script.\n\nWork begins. Selznick and Fleming attempt to act out all the characters in the novel while Hecht types. Early in the week\, Hecht and Fleming constantly clash. By day three\, fatigue\, hunger and sarcasm prevail. Tempers flare. There's even an attempt to escape from the office if only for just a shower and a meal.\n\nBy the end of the week\, Selznick asks\, "Is there anything wrong with getting the job done\, no matter what it takes?" Completing this job may take everything these men have to give! Take a fun\, farcical look at the behind-the-scene birth of one of the most beloved films of all time.
X-ALT-DESC;FMTTYPE=text/html:<p style="font-family: Verdana\, Geneva\, sans-serif\; font-size: 12px\; color: rgb(0\, 0\, 0)\; text-indent: 0.2in\; padding: 0px\; margin: 0px 0px 6px\; line-height: normal\;">Legendary Hollywood producer David O. Selznick has a problem. He has just fired the director of&nbsp\;<em>Gone with the Wind</em>&nbsp\;and the script is on its umpteenth version. He desperately needs a new director and writer&mdash\;immediately. However\, the writer he wants\, Ben Hecht\, has never read the novel. Selznick gives him a brief synopsis of the story and offers him $15\,000 to write a revised screenplay by the end of the week.</p>\n\n<p style="font-family: Verdana\, Geneva\, sans-serif\; font-size: 12px\; color: rgb(0\, 0\, 0)\; text-indent: 0.2in\; padding: 0px\; margin: 0px 0px 6px\; line-height: normal\;">Selznick also calls in director Victor Fleming\, pulling him from finishing The Wizard of Oz to be the new director of Gone with the Wind. Hecht is still not sold on the success of the storyline\, but Selznick believes in this movie\, so much so that he locks the three of them in his office for five days\, with bananas and peanuts as their only food\, to pull together a new script.</p>\n\n<p style="font-family: Verdana\, Geneva\, sans-serif\; font-size: 12px\; color: rgb(0\, 0\, 0)\; text-indent: 0.2in\; padding: 0px\; margin: 0px 0px 6px\; line-height: normal\;">Work begins. Selznick and Fleming attempt to act out all the characters in the novel while Hecht types. Early in the week\, Hecht and Fleming constantly clash. By day three\, fatigue\, hunger and sarcasm prevail. Tempers flare. There&rsquo\;s even an attempt to escape from the office&mdash\;if only for just a shower and a meal.</p>\n\n<p style="font-family: Verdana\, Geneva\, sans-serif\; font-size: 12px\; color: rgb(0\, 0\, 0)\; text-indent: 0.2in\; padding: 0px\; margin: 0px 0px 6px\; line-height: normal\;">By the end of the week\, Selznick asks\, &ldquo\;Is there anything wrong with getting the job done\, no matter what it takes?&rdquo\; Completing this job may take everything these men have to give! Take a fun\, farcical look at the behind-the-scene birth of one of the most beloved films of all time.</p>\n
LOCATION:212 N. Main St. George\, Utah
UID:e.1117.6320
SEQUENCE:3
DTSTAMP:20260420T190828Z
URL:https://business.stgeorgechamber.com/events/details/moonlight-and-magnolias-03-09-2015-6320
END:VEVENT

END:VCALENDAR
