BEGIN:VCALENDAR
VERSION:2.0
PRODID:-//ChamberMaster//Event Calendar 2.0//EN
METHOD:PUBLISH
X-PUBLISHED-TTL:P3D
REFRESH-INTERVAL:P3D
CALSCALE:GREGORIAN
BEGIN:VEVENT
DTSTART:20151014T150000Z
DTEND:20151014T180000Z
X-MICROSOFT-CDO-ALLDAYEVENT:FALSE
SUMMARY:MOMS Club Fall Fest Open house
DESCRIPTION:Please join us at Ready\, Set\, Play for our 1st annual new member Fall Festival. This event is open to anyone who is interested in joining MOMS Club. Admission is FREE to Ready\, Set\, Play and we will also have professional photos\, games\, food\, & a caricature booth. Costumes are encouraged especially if you want a great Halloween photo of your kids :) Our MOMS Club board members will be there taking new memberships\, answering your questions about the club\, and getting to know you! Yearly member dues is $20\, but all new moms that join during the fall fest will receive $5 off their dues for the year making it $15. Email: washco.momsclub@gmail.com with any questions.
X-ALT-DESC;FMTTYPE=text/html:Please join us at Ready\, Set\, Play for our 1st annual new member Fall Festival. This event is open to anyone who is interested in joining MOMS Club. Admission is FREE to Ready\, Set\, Play and we will also have professional photos\, games\, food\, &amp\; a caricature booth. Costumes are encouraged especially if you want a great Halloween photo of your kids :) Our MOMS Club board members will be there taking new memberships\, answering your questions about the club\, and getting to know you! Yearly member dues is $20\, but all new moms that join during the fall fest will receive $5 off their dues for the year making it $15. Email: washco.momsclub@gmail.com with any questions.
LOCATION:Ready\, Set\, Play 88 E 1160 S
UID:e.1117.7258
SEQUENCE:3
DTSTAMP:20260420T065145Z
URL:https://business.stgeorgechamber.com/events/details/moms-club-fall-fest-open-house-10-14-2015-7258
END:VEVENT

END:VCALENDAR
