BEGIN:VCALENDAR
VERSION:2.0
PRODID:-//ChamberMaster//Event Calendar 2.0//EN
METHOD:PUBLISH
X-PUBLISHED-TTL:P3D
REFRESH-INTERVAL:P3D
CALSCALE:GREGORIAN
BEGIN:VEVENT
DTSTART:20160205T023000Z
DTEND:20160205T023000Z
X-MICROSOFT-CDO-ALLDAYEVENT:FALSE
SUMMARY:MISS SAIGON-In Concert
DESCRIPTION:4 NIGHTS ONLY!\n\nMISS SAIGON  is a musical by Claude-Michel Schoenberg and Alain Boublil ("Les Miserables"). It is based on Giacomo Puccini's opera "Madame Butterfly"\, but relocated to the 1970's during the Vietnam War. It similarly tells the tragic tale of a doomed romance involving an Asian woman abandoned by her American lover.\n\nThis unique concert version of the hit Broadway Musical stars James Royce Edwards as Chris\, Brodie Perry as John and Alexa Garcia as Kim and also stars other local talent eg. Joel Thomas\, Jake Thomas\, Cathy Ford and Emme Forbes Condie.\n\nSee it NOW or wait for it's return to Broadway in 2017 as the "rights" to this production are no longer available except for here in St George Utah !!!!!!!!!!!!
X-ALT-DESC;FMTTYPE=text/html:<p>&nbsp\;4 NIGHTS ONLY!</p>\n\n<p>MISS SAIGON&nbsp\; is a musical by Claude-Michel Schoenberg and Alain Boublil (&quot\;Les Miserables&quot\;). It is based on Giacomo Puccini&rsquo\;s opera &ldquo\;Madame Butterfly&rdquo\;\, but relocated to the 1970&lsquo\;s during the Vietnam War. It similarly tells the tragic tale of a doomed romance involving an Asian woman abandoned by her American lover.</p>\n\n<p>This unique concert version of the hit Broadway Musical stars James Royce Edwards as Chris\, Brodie Perry as John and Alexa Garcia as Kim and also stars other local talent eg. Joel Thomas\, Jake Thomas\, Cathy Ford and Emme Forbes Condie.</p>\n\n<p>See it NOW or wait for it&#39\;s return to Broadway in 2017 as the &quot\;rights&quot\; to this production are no longer available except for here in St George Utah !!!!!!!!!!!!</p>\n
LOCATION:The Electric Theater 68 E. Tabernacle St George UT
UID:e.1117.8435
SEQUENCE:3
DTSTAMP:20260419T234404Z
URL:https://business.stgeorgechamber.com/events/details/miss-saigon-in-concert-02-04-2016-8435
END:VEVENT

END:VCALENDAR
