BEGIN:VCALENDAR
VERSION:2.0
PRODID:-//ChamberMaster//Event Calendar 2.0//EN
METHOD:PUBLISH
X-PUBLISHED-TTL:P3D
REFRESH-INTERVAL:P3D
CALSCALE:GREGORIAN
BEGIN:VEVENT
DTSTART:20160204T023000Z
DTEND:20160207T053000Z
X-MICROSOFT-CDO-ALLDAYEVENT:FALSE
SUMMARY:Miss Saigon- In Concert
DESCRIPTION:Miss Saigon is a musical by Claude-Michel Sch nberg and Alain Boublil\, the same team who brought us "Les Miserables". It is based on Giacomo Puccini's opera Madame Butterfly\, and similarly tells the tragic tale of a doomed romance involving an Asian woman abandoned by her American lover but set during the Vietnam War. Miss Saigon returns to Broadway in 2017. The "rights" to the show are no longer available in the USA\, except here in St George!!!!! This all star cast includes James Royce Edwards\, Brodie Perry\, Alexa Garcia and many more.
X-ALT-DESC;FMTTYPE=text/html:Miss Saigon is a musical by Claude-Michel Sch&ouml\;nberg and Alain Boublil\, the same team who brought us &quot\;Les Miserables&quot\;. It is based on Giacomo Puccini&#39\;s opera Madame Butterfly\, and similarly tells the tragic tale of a doomed romance involving an Asian woman abandoned by her American lover but set during the Vietnam War. Miss Saigon returns to Broadway in 2017. The &quot\;rights&quot\; to the show are no longer available in the USA\, except here in St George!!!!! This all star cast includes James Royce Edwards\, Brodie Perry\, Alexa Garcia and many more.
LOCATION:The Electric Theater 68 E. Tabernacle St George UT
UID:e.1117.8427
SEQUENCE:3
DTSTAMP:20260419T234411Z
URL:https://business.stgeorgechamber.com/events/details/miss-saigon-in-concert-02-03-2016-8427
END:VEVENT

END:VCALENDAR
