BEGIN:VCALENDAR
VERSION:2.0
PRODID:-//ChamberMaster//Event Calendar 2.0//EN
METHOD:PUBLISH
X-PUBLISHED-TTL:P3D
REFRESH-INTERVAL:P3D
CALSCALE:GREGORIAN
BEGIN:VEVENT
DTSTART:20140413T013000Z
DTEND:20140413T033000Z
X-MICROSOFT-CDO-ALLDAYEVENT:FALSE
SUMMARY:Mike Wilson in Concert
DESCRIPTION:YouTube sensation\, singer/songwriter Mike Wilson comes to St. George for one night only to kick off the Concert Series at Brigham Larson Pianos in St. George.  With soulful vocals and amazing skills on numerous instruments\, Mike combines natural talent\, passion\, love of music and the outdoors into the songs that he writes\, sings and performs on YouTube.   Perfect for the whole family young and old.  You wont want to miss it!   Doors open at 7:30pm. Concert starts at 8:00pm.  Come early for best seats.  For more information contact Brigham Larson Pianos in St. George 435.772.4440
X-ALT-DESC;FMTTYPE=text/html:YouTube sensation\, singer/songwriter Mike Wilson comes to St. George for one night only to kick off the Concert Series at Brigham Larson Pianos in St. George. &nbsp\;With soulful vocals and amazing skills on numerous instruments\, Mike combines natural talent\, passion\, love of music and the outdoors into the songs that he writes\, sings and performs on YouTube. &nbsp\; Perfect for the whole family young and old. &nbsp\;You wont want to miss it! &nbsp\; Doors open at 7:30pm. Concert starts at 8:00pm. &nbsp\;Come early for best seats. &nbsp\;For more information contact Brigham Larson Pianos in St. George 435.772.4440
LOCATION:Brigham Larson Pianos 511 E. St. George Blvd St. George\, UT 84770
UID:e.1117.5186
SEQUENCE:3
DTSTAMP:20260421T112246Z
URL:https://business.stgeorgechamber.com/events/details/mike-wilson-in-concert-04-12-2014-5186
END:VEVENT

END:VCALENDAR
