BEGIN:VCALENDAR
VERSION:2.0
PRODID:-//ChamberMaster//Event Calendar 2.0//EN
METHOD:PUBLISH
X-PUBLISHED-TTL:P3D
REFRESH-INTERVAL:P3D
CALSCALE:GREGORIAN
BEGIN:VEVENT
DTSTART:20130825T020000Z
DTEND:20130825T040000Z
X-MICROSOFT-CDO-ALLDAYEVENT:FALSE
SUMMARY:Mikalene in Concert
DESCRIPTION:Singer-songwriter Mikalene makes an exciting finale for the Tanner Summer schedule. Her lyrics resonate with everyone who has experienced struggles with disappointment\, heartache and unresolved goals. Her clear\, melodic voice reminds the listener of Allison Krauss\, Miranda Lambert or Trisha Yearwood. Mikalene has been performing professionally since age 13 and has recently released a new CD Pixie Dust. "I've been surprised more than once\, listening to a locally made album featuring local talent\, to find something so good and worth listening to that\, after I've finished reviewing it\, I end up happily adding it to my own collection to listen to again and again. Well\, color me surprised once more with Mikalene." Wrote Tami Cox of the Independent Magazine.
X-ALT-DESC;FMTTYPE=text/html:<span style="font-family: Verdana\, Arial\, Helvetica\, sans-serif\; line-height: 18px\;">Singer-songwriter </span><span style="font-family: Verdana\, Arial\, Helvetica\, sans-serif\; line-height: 18px\;">Mikalene makes an exciting finale for the Tanner Summer schedule. Her lyrics resonate with everyone who has experienced struggles with disappointment\, heartache and unresolved goals. Her clear\, melodic voice reminds the listener of Allison Krauss\, Miranda Lambert or Trisha Yearwood. Mikalene has been performing professionally since age 13 and has recently released a new CD Pixie Dust. &quot\;I&#39\;ve been surprised more than once\, listening to a locally made album featuring local talent\, to find something so good and worth listening to that\, after I&#39\;ve finished reviewing it\, I end up happily adding it to my own collection to listen to again and again. Well\, color me surprised once more with Mikalene.&quot\; Wrote Tami Cox of the Independent Magazine.</span>
LOCATION:Tanner Amphitheater (one mile before the South entrance to Zion National Park) 350 Lion Blvd. Springdale\, UT
UID:e.1117.2973
SEQUENCE:3
DTSTAMP:20260422T011201Z
URL:https://business.stgeorgechamber.com/events/details/mikalene-in-concert-08-24-2013-2973
END:VEVENT

END:VCALENDAR
