BEGIN:VCALENDAR
VERSION:2.0
PRODID:-//ChamberMaster//Event Calendar 2.0//EN
METHOD:PUBLISH
X-PUBLISHED-TTL:P3D
REFRESH-INTERVAL:P3D
CALSCALE:GREGORIAN
BEGIN:VEVENT
DTSTART;VALUE=DATE:20151005
DTEND;VALUE=DATE:20151010
TRANSP:TRANSPARENT
X-MICROSOFT-CDO-ALLDAYEVENT:TRUE
SUMMARY:Mesquite's Best of Fest Film Festival
DESCRIPTION:Sponsored by the Eureka Community Initiative\, in partnership with DocUtah.\n\n\n\nMonday\, October 5\n\nFestival Kick-off at Town Square (275 Mesa Blvd.)\n\n\n\nTuesday-Thursday\n\nFeature Films at Redd Hills Cinema (790 W. Pioneer Blvd.)\n\n\n\nFriday\n\nVIP Festival Wrap Party! at the Eureka Casino Resort (in the Grand Canyon Ballroom)
X-ALT-DESC;FMTTYPE=text/html:Sponsored by the Eureka Community Initiative\, in partnership with DocUtah.<br />\n<br />\nMonday\, October 5<br />\nFestival Kick-off at Town Square (275 Mesa Blvd.)<br />\n<br />\nTuesday-Thursday<br />\nFeature Films at Redd Hills Cinema (790 W. Pioneer Blvd.)<br />\n<br />\nFriday<br />\nVIP Festival Wrap Party! at the Eureka Casino Resort (in the Grand Canyon Ballroom)
LOCATION:
UID:e.1117.7101
SEQUENCE:3
DTSTAMP:20260420T065713Z
URL:https://business.stgeorgechamber.com/events/details/mesquite-s-best-of-fest-film-festival-10-05-2015-7101
END:VEVENT

END:VCALENDAR
