BEGIN:VCALENDAR
VERSION:2.0
PRODID:-//ChamberMaster//Event Calendar 2.0//EN
METHOD:PUBLISH
X-PUBLISHED-TTL:P3D
REFRESH-INTERVAL:P3D
CALSCALE:GREGORIAN
BEGIN:VEVENT
DTSTART;VALUE=DATE:20150411
DTEND;VALUE=DATE:20150412
TRANSP:TRANSPARENT
X-MICROSOFT-CDO-ALLDAYEVENT:TRUE
SUMMARY:Mesquite Rotary's 2nd Annual Mudd Volleyball Tournament
DESCRIPTION:The Rotary Club of Mesquite and the Eureka Casino Resort are hosting the 2nd Annual Mudd Volleyball Tournament! Come enjoy some fun while supporting a great cause. All proceeds will go towards the building of a Disc Golf Course in Beaver Dam\, AZ.\n\nForm your team of 8 players and join in the friendly competition. Come up with a fun teamname. Get family\, friends\, co-workers to join the fun.\n\nWatch the Police Department and the Fire & Rescue battle it out in a rivalry match for the ages!\n\nSpectators are always free and are highly encouraged to support the cause through concessions. Local DJ sensation\, DJ Number Juan\, will keep the entertainment going. This is one event you will not want to miss. Fun for the whole family!
X-ALT-DESC;FMTTYPE=text/html:<p style="margin: 5px\; padding: 0px\; color: rgb(0\, 0\, 0)\; font-family: Times\, 'Times New Roman'\, Georgia\, serif\; font-size: medium\; line-height: normal\;"><span style="font-size:14px\;"><span style="font-family:arial\;">The Rotary Club of Mesquite and the Eureka Casino Resort are hosting the 2nd Annual Mudd Volleyball Tournament! Come enjoy some fun while supporting a great cause. All proceeds will go towards the building of a Disc Golf Course in Beaver Dam\, AZ.</span></span></p>\n\n<p style="margin: 5px\; padding: 0px\; color: rgb(0\, 0\, 0)\; font-family: Times\, 'Times New Roman'\, Georgia\, serif\; font-size: medium\; line-height: normal\;"><span style="font-size:14px\;"><span style="font-family:arial\;">Form your team of 8 players and join in the friendly competition. Come up with a fun teamname. Get family\, friends\, co-workers to join the fun.</span></span></p>\n\n<p style="margin: 5px\; padding: 0px\; color: rgb(0\, 0\, 0)\; font-family: Times\, 'Times New Roman'\, Georgia\, serif\; font-size: medium\; line-height: normal\;"><span style="font-size:14px\;"><span style="font-family:arial\;"><strong style="margin: 0px\; padding: 0px\;">Watch the Police Department and the Fire &amp\; Rescue battle it out in a rivalry match for the ages!</strong></span></span></p>\n\n<p style="margin: 5px\; padding: 0px\; color: rgb(0\, 0\, 0)\; font-family: Times\, 'Times New Roman'\, Georgia\, serif\; font-size: medium\; line-height: normal\;"><span style="font-size:14px\;"><span style="font-family:arial\;">Spectators are always&nbsp\;<strong style="margin: 0px\; padding: 0px\;">free</strong>&nbsp\;and are highly encouraged to support the cause through concessions. Local DJ sensation\,&nbsp\;<strong style="margin: 0px\; padding: 0px\;"><em style="margin: 0px\; padding: 0px\; font-weight: normal\;">DJ Number Juan</em></strong>\, will keep the entertainment going. This is one event you will not want to miss.&nbsp\;<strong style="margin: 0px\; padding: 0px\;">Fun for the whole family!</strong></span></span></p>\n
LOCATION:Eureka Casino Resort 275 Mesa Blvd. Mesquite\, NV
UID:e.1117.6384
SEQUENCE:3
DTSTAMP:20260420T190935Z
URL:https://business.stgeorgechamber.com/events/details/mesquite-rotary-s-2nd-annual-mudd-volleyball-tournament-04-11-2015-6384
END:VEVENT

END:VCALENDAR
