BEGIN:VCALENDAR
VERSION:2.0
PRODID:-//ChamberMaster//Event Calendar 2.0//EN
METHOD:PUBLISH
X-PUBLISHED-TTL:P3D
REFRESH-INTERVAL:P3D
CALSCALE:GREGORIAN
BEGIN:VEVENT
DTSTART;VALUE=DATE:20140221
DTEND;VALUE=DATE:20140224
TRANSP:TRANSPARENT
X-MICROSOFT-CDO-ALLDAYEVENT:TRUE
SUMMARY:Mesquite Off Road Weekend
DESCRIPTION:The Mesquite Off-Road Weekend features Enduro Challenge Races\, mud bogs\, an Adventure Park with a zip line and paintball\, a Powersports Plaza full of vendors\, food\, drink\, entertainment and much more.  The highlights of the weekend will be Cowboy Kenny's Steel Rodeo aerial show and the "Beyond Pro" race featuring top racers battling for bragging rights. It will be great fun for the whole family!
X-ALT-DESC;FMTTYPE=text/html:<div style="color: rgb(68\, 68\, 68)\; font-size: 13px\; line-height: 16px\;">\n	<span style="font-size: medium\; color: rgb(34\, 34\, 34)\; font-family: Calibri\, sans-serif\; line-height: 1.19em\;">The Mesquite Off-</span><span style="font-size: medium\; color: rgb(34\, 34\, 34)\; font-family: Calibri\, sans-serif\; line-height: 1.19em\;">Road Weekend features Enduro Challenge Races\, mud bogs\, an Adventure Park with a zip line and paintball\, a Powersports Plaza full of vendors\, food\, drink\, entertainment and much more. &nbsp\;The highlights of the weekend will be Cowboy Kenny&rsquo\;s Steel Rodeo aerial show and the &ldquo\;Beyond Pro&rdquo\; race featuring top racers battling for bragging rights. It will be great fun for the whole family!</span></div>\n
LOCATION:275 S. Mesa Blvd. Mesquite\, NV
UID:e.1117.5084
SEQUENCE:3
DTSTAMP:20260421T153958Z
URL:https://business.stgeorgechamber.com/events/details/mesquite-off-road-weekend-02-21-2014-5084
END:VEVENT

END:VCALENDAR
